BEGIN:VCALENDAR
VERSION:2.0
PRODID:-//72 Chew - ECPv6.15.18//NONSGML v1.0//EN
CALSCALE:GREGORIAN
METHOD:PUBLISH
X-ORIGINAL-URL:http://72chew.net
X-WR-CALDESC:Events for 72 Chew
REFRESH-INTERVAL;VALUE=DURATION:PT1H
X-Robots-Tag:noindex
X-PUBLISHED-TTL:PT1H
BEGIN:VTIMEZONE
TZID:America/New_York
BEGIN:DAYLIGHT
TZOFFSETFROM:-0500
TZOFFSETTO:-0400
TZNAME:EDT
DTSTART:20210314T070000
END:DAYLIGHT
BEGIN:STANDARD
TZOFFSETFROM:-0400
TZOFFSETTO:-0500
TZNAME:EST
DTSTART:20211107T060000
END:STANDARD
BEGIN:DAYLIGHT
TZOFFSETFROM:-0500
TZOFFSETTO:-0400
TZNAME:EDT
DTSTART:20220313T070000
END:DAYLIGHT
BEGIN:STANDARD
TZOFFSETFROM:-0400
TZOFFSETTO:-0500
TZNAME:EST
DTSTART:20221106T060000
END:STANDARD
BEGIN:DAYLIGHT
TZOFFSETFROM:-0500
TZOFFSETTO:-0400
TZNAME:EDT
DTSTART:20230312T070000
END:DAYLIGHT
BEGIN:STANDARD
TZOFFSETFROM:-0400
TZOFFSETTO:-0500
TZNAME:EST
DTSTART:20231105T060000
END:STANDARD
END:VTIMEZONE
BEGIN:VEVENT
DTSTART;TZID=America/New_York:20221230T090000
DTEND;TZID=America/New_York:20221230T100000
DTSTAMP:20260419T131245
CREATED:20221130T183028Z
LAST-MODIFIED:20221130T183028Z
UID:6432-1672390800-1672394400@72chew.net
SUMMARY:9:00 WA2AXZ\, Loby
DESCRIPTION:
URL:http://72chew.net/event/900-wa2axz-loby-318/
LOCATION:7.272 Mhz
CATEGORIES:NCS slots
END:VEVENT
BEGIN:VEVENT
DTSTART;TZID=America/New_York:20221230T100000
DTEND;TZID=America/New_York:20221230T110000
DTSTAMP:20260419T131245
CREATED:20221130T183028Z
LAST-MODIFIED:20221130T183028Z
UID:6433-1672394400-1672398000@72chew.net
SUMMARY:10:00 W4WEL\, Scott
DESCRIPTION:
URL:http://72chew.net/event/1000-w4wel-scott-27/
LOCATION:7.272 Mhz
CATEGORIES:NCS slots
END:VEVENT
BEGIN:VEVENT
DTSTART;TZID=America/New_York:20221230T110000
DTEND;TZID=America/New_York:20221230T120000
DTSTAMP:20260419T131245
CREATED:20221130T183029Z
LAST-MODIFIED:20221217T182258Z
UID:6434-1672398000-1672401600@72chew.net
SUMMARY:11:00 WB1CEI\, Ed
DESCRIPTION:
URL:http://72chew.net/event/1100-ncs-needed-20/
LOCATION:7.272 Mhz
CATEGORIES:NCS slots
END:VEVENT
END:VCALENDAR