BEGIN:VCALENDAR
VERSION:2.0
PRODID:-//72 Chew - ECPv6.15.18//NONSGML v1.0//EN
CALSCALE:GREGORIAN
METHOD:PUBLISH
X-WR-CALNAME:72 Chew
X-ORIGINAL-URL:http://72chew.net
X-WR-CALDESC:Events for 72 Chew
REFRESH-INTERVAL;VALUE=DURATION:PT1H
X-Robots-Tag:noindex
X-PUBLISHED-TTL:PT1H
BEGIN:VTIMEZONE
TZID:America/New_York
BEGIN:DAYLIGHT
TZOFFSETFROM:-0500
TZOFFSETTO:-0400
TZNAME:EDT
DTSTART:20230312T070000
END:DAYLIGHT
BEGIN:STANDARD
TZOFFSETFROM:-0400
TZOFFSETTO:-0500
TZNAME:EST
DTSTART:20231105T060000
END:STANDARD
BEGIN:DAYLIGHT
TZOFFSETFROM:-0500
TZOFFSETTO:-0400
TZNAME:EDT
DTSTART:20240310T070000
END:DAYLIGHT
BEGIN:STANDARD
TZOFFSETFROM:-0400
TZOFFSETTO:-0500
TZNAME:EST
DTSTART:20241103T060000
END:STANDARD
BEGIN:DAYLIGHT
TZOFFSETFROM:-0500
TZOFFSETTO:-0400
TZNAME:EDT
DTSTART:20250309T070000
END:DAYLIGHT
BEGIN:STANDARD
TZOFFSETFROM:-0400
TZOFFSETTO:-0500
TZNAME:EST
DTSTART:20251102T060000
END:STANDARD
END:VTIMEZONE
BEGIN:VEVENT
DTSTART;TZID=America/New_York:20241214T090000
DTEND;TZID=America/New_York:20241214T100000
DTSTAMP:20260420T101145
CREATED:20241121T155352Z
LAST-MODIFIED:20241121T155352Z
UID:8979-1734166800-1734170400@72chew.net
SUMMARY:9:00 K2YN\, John
DESCRIPTION:
URL:http://72chew.net/event/900-k2yn-john-107/
LOCATION:7.272 Mhz
CATEGORIES:NCS slots
END:VEVENT
BEGIN:VEVENT
DTSTART;TZID=America/New_York:20241214T100000
DTEND;TZID=America/New_York:20241214T110000
DTSTAMP:20260420T101145
CREATED:20241121T155405Z
LAST-MODIFIED:20241121T155405Z
UID:8980-1734170400-1734174000@72chew.net
SUMMARY:10:00 WA2AXZ\, Loby
DESCRIPTION:
URL:http://72chew.net/event/1000-wa2axz-loby-11/
LOCATION:7.272 Mhz
CATEGORIES:NCS slots
END:VEVENT
BEGIN:VEVENT
DTSTART;TZID=America/New_York:20241214T110000
DTEND;TZID=America/New_York:20241214T120000
DTSTAMP:20260420T101145
CREATED:20241121T155406Z
LAST-MODIFIED:20241121T155406Z
UID:8981-1734174000-1734177600@72chew.net
SUMMARY:11:00 NCS Needed
DESCRIPTION:
URL:http://72chew.net/event/1100-ncs-needed-63/
LOCATION:7.272 Mhz
CATEGORIES:NCS slots
END:VEVENT
END:VCALENDAR