BEGIN:VCALENDAR
VERSION:2.0
PRODID:-//72 Chew - ECPv6.15.18//NONSGML v1.0//EN
CALSCALE:GREGORIAN
METHOD:PUBLISH
X-WR-CALNAME:72 Chew
X-ORIGINAL-URL:http://72chew.net
X-WR-CALDESC:Events for 72 Chew
REFRESH-INTERVAL;VALUE=DURATION:PT1H
X-Robots-Tag:noindex
X-PUBLISHED-TTL:PT1H
BEGIN:VTIMEZONE
TZID:America/New_York
BEGIN:DAYLIGHT
TZOFFSETFROM:-0500
TZOFFSETTO:-0400
TZNAME:EDT
DTSTART:20240310T070000
END:DAYLIGHT
BEGIN:STANDARD
TZOFFSETFROM:-0400
TZOFFSETTO:-0500
TZNAME:EST
DTSTART:20241103T060000
END:STANDARD
BEGIN:DAYLIGHT
TZOFFSETFROM:-0500
TZOFFSETTO:-0400
TZNAME:EDT
DTSTART:20250309T070000
END:DAYLIGHT
BEGIN:STANDARD
TZOFFSETFROM:-0400
TZOFFSETTO:-0500
TZNAME:EST
DTSTART:20251102T060000
END:STANDARD
BEGIN:DAYLIGHT
TZOFFSETFROM:-0500
TZOFFSETTO:-0400
TZNAME:EDT
DTSTART:20260308T070000
END:DAYLIGHT
BEGIN:STANDARD
TZOFFSETFROM:-0400
TZOFFSETTO:-0500
TZNAME:EST
DTSTART:20261101T060000
END:STANDARD
END:VTIMEZONE
BEGIN:VEVENT
DTSTART;TZID=America/New_York:20250607T090000
DTEND;TZID=America/New_York:20250607T100000
DTSTAMP:20260422T062831
CREATED:20250529T143928Z
LAST-MODIFIED:20250529T143928Z
UID:9640-1749286800-1749290400@72chew.net
SUMMARY:9:00 K2YN\, John
DESCRIPTION:
URL:http://72chew.net/event/900-k2yn-john-132/
LOCATION:7.272 Mhz
CATEGORIES:NCS slots
END:VEVENT
BEGIN:VEVENT
DTSTART;TZID=America/New_York:20250607T100000
DTEND;TZID=America/New_York:20250607T110000
DTSTAMP:20260422T062831
CREATED:20250529T143929Z
LAST-MODIFIED:20250529T143929Z
UID:9641-1749290400-1749294000@72chew.net
SUMMARY:10:00 WA2AXZ\, Loby
DESCRIPTION:
URL:http://72chew.net/event/1000-wa2axz-loby-36/
LOCATION:7.272 Mhz
CATEGORIES:NCS slots
END:VEVENT
BEGIN:VEVENT
DTSTART;TZID=America/New_York:20250607T110000
DTEND;TZID=America/New_York:20250607T120000
DTSTAMP:20260422T062831
CREATED:20250529T143941Z
LAST-MODIFIED:20250529T143941Z
UID:9642-1749294000-1749297600@72chew.net
SUMMARY:11:00 **suspended until fall 2025
DESCRIPTION:
URL:http://72chew.net/event/1100-suspended-until-fall-2025-6/
LOCATION:7.272 Mhz
CATEGORIES:NCS slots
END:VEVENT
END:VCALENDAR