BEGIN:VCALENDAR
VERSION:2.0
PRODID:-//72 Chew - ECPv6.15.18//NONSGML v1.0//EN
CALSCALE:GREGORIAN
METHOD:PUBLISH
X-WR-CALNAME:72 Chew
X-ORIGINAL-URL:http://72chew.net
X-WR-CALDESC:Events for 72 Chew
REFRESH-INTERVAL;VALUE=DURATION:PT1H
X-Robots-Tag:noindex
X-PUBLISHED-TTL:PT1H
BEGIN:VTIMEZONE
TZID:America/New_York
BEGIN:DAYLIGHT
TZOFFSETFROM:-0500
TZOFFSETTO:-0400
TZNAME:EDT
DTSTART:20240310T070000
END:DAYLIGHT
BEGIN:STANDARD
TZOFFSETFROM:-0400
TZOFFSETTO:-0500
TZNAME:EST
DTSTART:20241103T060000
END:STANDARD
BEGIN:DAYLIGHT
TZOFFSETFROM:-0500
TZOFFSETTO:-0400
TZNAME:EDT
DTSTART:20250309T070000
END:DAYLIGHT
BEGIN:STANDARD
TZOFFSETFROM:-0400
TZOFFSETTO:-0500
TZNAME:EST
DTSTART:20251102T060000
END:STANDARD
BEGIN:DAYLIGHT
TZOFFSETFROM:-0500
TZOFFSETTO:-0400
TZNAME:EDT
DTSTART:20260308T070000
END:DAYLIGHT
BEGIN:STANDARD
TZOFFSETFROM:-0400
TZOFFSETTO:-0500
TZNAME:EST
DTSTART:20261101T060000
END:STANDARD
END:VTIMEZONE
BEGIN:VEVENT
DTSTART;TZID=America/New_York:20251217T090000
DTEND;TZID=America/New_York:20251217T100000
DTSTAMP:20260420T083300
CREATED:20251201T003514Z
LAST-MODIFIED:20251201T003514Z
UID:10270-1765962000-1765965600@72chew.net
SUMMARY:9:00 W4CVG\, Chris (temporarily)
DESCRIPTION:
URL:http://72chew.net/event/900-w4cvg-chris-temporarily-3/
LOCATION:7.272 Mhz
CATEGORIES:NCS slots
END:VEVENT
BEGIN:VEVENT
DTSTART;TZID=America/New_York:20251217T100000
DTEND;TZID=America/New_York:20251217T110000
DTSTAMP:20260420T083300
CREATED:20251201T003515Z
LAST-MODIFIED:20251201T003515Z
UID:10271-1765965600-1765969200@72chew.net
SUMMARY:10:00 WA2ISC\, Kevin
DESCRIPTION:
URL:http://72chew.net/event/1000-wa2isc-kevin-371/
LOCATION:7.272 Mhz
CATEGORIES:NCS slots
END:VEVENT
BEGIN:VEVENT
DTSTART;TZID=America/New_York:20251217T110000
DTEND;TZID=America/New_York:20251217T120000
DTSTAMP:20260420T083300
CREATED:20251201T003526Z
LAST-MODIFIED:20251201T003526Z
UID:10272-1765969200-1765972800@72chew.net
SUMMARY:11:00 AA2T\, Jerry
DESCRIPTION:
URL:http://72chew.net/event/1100-aa2t-jerry-7/
LOCATION:7.272 Mhz
CATEGORIES:NCS slots
END:VEVENT
END:VCALENDAR