BEGIN:VCALENDAR
VERSION:2.0
PRODID:-//72 Chew - ECPv6.15.18//NONSGML v1.0//EN
CALSCALE:GREGORIAN
METHOD:PUBLISH
X-ORIGINAL-URL:http://72chew.net
X-WR-CALDESC:Events for 72 Chew
REFRESH-INTERVAL;VALUE=DURATION:PT1H
X-Robots-Tag:noindex
X-PUBLISHED-TTL:PT1H
BEGIN:VTIMEZONE
TZID:America/New_York
BEGIN:DAYLIGHT
TZOFFSETFROM:-0500
TZOFFSETTO:-0400
TZNAME:EDT
DTSTART:20240310T070000
END:DAYLIGHT
BEGIN:STANDARD
TZOFFSETFROM:-0400
TZOFFSETTO:-0500
TZNAME:EST
DTSTART:20241103T060000
END:STANDARD
BEGIN:DAYLIGHT
TZOFFSETFROM:-0500
TZOFFSETTO:-0400
TZNAME:EDT
DTSTART:20250309T070000
END:DAYLIGHT
BEGIN:STANDARD
TZOFFSETFROM:-0400
TZOFFSETTO:-0500
TZNAME:EST
DTSTART:20251102T060000
END:STANDARD
BEGIN:DAYLIGHT
TZOFFSETFROM:-0500
TZOFFSETTO:-0400
TZNAME:EDT
DTSTART:20260308T070000
END:DAYLIGHT
BEGIN:STANDARD
TZOFFSETFROM:-0400
TZOFFSETTO:-0500
TZNAME:EST
DTSTART:20261101T060000
END:STANDARD
END:VTIMEZONE
BEGIN:VEVENT
DTSTART;TZID=America/New_York:20251229T090000
DTEND;TZID=America/New_York:20251229T100000
DTSTAMP:20260422T103833
CREATED:20251201T003700Z
LAST-MODIFIED:20251201T003700Z
UID:10306-1766998800-1767002400@72chew.net
SUMMARY:9:00 KZ2KCK\, Rich
DESCRIPTION:
URL:http://72chew.net/event/900-kz2kck-rich-49/
LOCATION:7.272 Mhz
CATEGORIES:NCS slots
END:VEVENT
BEGIN:VEVENT
DTSTART;TZID=America/New_York:20251229T100000
DTEND;TZID=America/New_York:20251229T110000
DTSTAMP:20260422T103833
CREATED:20251201T003711Z
LAST-MODIFIED:20251201T003711Z
UID:10307-1767002400-1767006000@72chew.net
SUMMARY:10:00 Temporarily Open
DESCRIPTION:
URL:http://72chew.net/event/1000-temporarily-open-5/
LOCATION:7.272 Mhz
CATEGORIES:NCS slots
END:VEVENT
BEGIN:VEVENT
DTSTART;TZID=America/New_York:20251229T110000
DTEND;TZID=America/New_York:20251229T120000
DTSTAMP:20260422T103833
CREATED:20251201T003712Z
LAST-MODIFIED:20251201T003712Z
UID:10308-1767006000-1767009600@72chew.net
SUMMARY:11:00 KB3LGO\, Walt
DESCRIPTION:
URL:http://72chew.net/event/1100-kb3lgo-walt-428/
LOCATION:7.272 Mhz
CATEGORIES:NCS slots
END:VEVENT
END:VCALENDAR