BEGIN:VCALENDAR
VERSION:2.0
PRODID:-//72 Chew - ECPv6.15.18//NONSGML v1.0//EN
CALSCALE:GREGORIAN
METHOD:PUBLISH
X-ORIGINAL-URL:http://72chew.net
X-WR-CALDESC:Events for 72 Chew
REFRESH-INTERVAL;VALUE=DURATION:PT1H
X-Robots-Tag:noindex
X-PUBLISHED-TTL:PT1H
BEGIN:VTIMEZONE
TZID:America/New_York
BEGIN:DAYLIGHT
TZOFFSETFROM:-0500
TZOFFSETTO:-0400
TZNAME:EDT
DTSTART:20230312T070000
END:DAYLIGHT
BEGIN:STANDARD
TZOFFSETFROM:-0400
TZOFFSETTO:-0500
TZNAME:EST
DTSTART:20231105T060000
END:STANDARD
BEGIN:DAYLIGHT
TZOFFSETFROM:-0500
TZOFFSETTO:-0400
TZNAME:EDT
DTSTART:20240310T070000
END:DAYLIGHT
BEGIN:STANDARD
TZOFFSETFROM:-0400
TZOFFSETTO:-0500
TZNAME:EST
DTSTART:20241103T060000
END:STANDARD
BEGIN:DAYLIGHT
TZOFFSETFROM:-0500
TZOFFSETTO:-0400
TZNAME:EDT
DTSTART:20250309T070000
END:DAYLIGHT
BEGIN:STANDARD
TZOFFSETFROM:-0400
TZOFFSETTO:-0500
TZNAME:EST
DTSTART:20251102T060000
END:STANDARD
END:VTIMEZONE
BEGIN:VEVENT
DTSTART;TZID=America/New_York:20241205T090000
DTEND;TZID=America/New_York:20241205T100000
DTSTAMP:20260420T100520
CREATED:20241121T155237Z
LAST-MODIFIED:20241121T155237Z
UID:8952-1733389200-1733392800@72chew.net
SUMMARY:9:00 KB1HPV\, Chad
DESCRIPTION:
URL:http://72chew.net/event/900-kb1hpv-chad-166/
LOCATION:7.272 Mhz
CATEGORIES:NCS slots
END:VEVENT
BEGIN:VEVENT
DTSTART;TZID=America/New_York:20241205T100000
DTEND;TZID=America/New_York:20241205T110000
DTSTAMP:20260420T100520
CREATED:20241121T155237Z
LAST-MODIFIED:20241121T155237Z
UID:8953-1733392800-1733396400@72chew.net
SUMMARY:10:00 KM4NOU\, Joel
DESCRIPTION:
URL:http://72chew.net/event/1000-km4nou-joel-296/
LOCATION:7.272 Mhz
CATEGORIES:NCS slots
END:VEVENT
BEGIN:VEVENT
DTSTART;TZID=America/New_York:20241205T110000
DTEND;TZID=America/New_York:20241205T120000
DTSTAMP:20260420T100520
CREATED:20241121T155238Z
LAST-MODIFIED:20241121T155238Z
UID:8954-1733396400-1733400000@72chew.net
SUMMARY:11:00 KB3LGO\, Walt
DESCRIPTION:
URL:http://72chew.net/event/1100-kb3lgo-walt-339/
LOCATION:7.272 Mhz
CATEGORIES:NCS slots
END:VEVENT
BEGIN:VEVENT
DTSTART;TZID=America/New_York:20241206T090000
DTEND;TZID=America/New_York:20241206T100000
DTSTAMP:20260420T100520
CREATED:20241121T155250Z
LAST-MODIFIED:20241121T155250Z
UID:8955-1733475600-1733479200@72chew.net
SUMMARY:9:00 WA2AXZ\, Loby
DESCRIPTION:
URL:http://72chew.net/event/900-wa2axz-loby-520/
LOCATION:7.272 Mhz
CATEGORIES:NCS slots
END:VEVENT
BEGIN:VEVENT
DTSTART;TZID=America/New_York:20241206T100000
DTEND;TZID=America/New_York:20241206T110000
DTSTAMP:20260420T100520
CREATED:20241121T155251Z
LAST-MODIFIED:20241121T155251Z
UID:8956-1733479200-1733482800@72chew.net
SUMMARY:10:00 W4WEL\, Scott
DESCRIPTION:
URL:http://72chew.net/event/1000-w4wel-scott-128/
LOCATION:7.272 Mhz
CATEGORIES:NCS slots
END:VEVENT
BEGIN:VEVENT
DTSTART;TZID=America/New_York:20241206T110000
DTEND;TZID=America/New_York:20241206T120000
DTSTAMP:20260420T100520
CREATED:20241121T155251Z
LAST-MODIFIED:20241121T155251Z
UID:8957-1733482800-1733486400@72chew.net
SUMMARY:11:00 WB1CEI\, Ed
DESCRIPTION:
URL:http://72chew.net/event/1100-wb1cei-ed-93/
LOCATION:7.272 Mhz
CATEGORIES:NCS slots
END:VEVENT
BEGIN:VEVENT
DTSTART;TZID=America/New_York:20241207T090000
DTEND;TZID=America/New_York:20241207T100000
DTSTAMP:20260420T100520
CREATED:20241121T155252Z
LAST-MODIFIED:20241121T155252Z
UID:8958-1733562000-1733565600@72chew.net
SUMMARY:9:00 K2YN\, John
DESCRIPTION:
URL:http://72chew.net/event/900-k2yn-john-106/
LOCATION:7.272 Mhz
CATEGORIES:NCS slots
END:VEVENT
BEGIN:VEVENT
DTSTART;TZID=America/New_York:20241207T100000
DTEND;TZID=America/New_York:20241207T110000
DTSTAMP:20260420T100520
CREATED:20241121T155252Z
LAST-MODIFIED:20241121T155252Z
UID:8959-1733565600-1733569200@72chew.net
SUMMARY:10:00 WA2AXZ\, Loby
DESCRIPTION:
URL:http://72chew.net/event/1000-wa2axz-loby-10/
LOCATION:7.272 Mhz
CATEGORIES:NCS slots
END:VEVENT
BEGIN:VEVENT
DTSTART;TZID=America/New_York:20241207T110000
DTEND;TZID=America/New_York:20241207T120000
DTSTAMP:20260420T100520
CREATED:20241121T155305Z
LAST-MODIFIED:20241121T155305Z
UID:8960-1733569200-1733572800@72chew.net
SUMMARY:11:00 NCS Needed
DESCRIPTION:
URL:http://72chew.net/event/1100-ncs-needed-62/
LOCATION:7.272 Mhz
CATEGORIES:NCS slots
END:VEVENT
BEGIN:VEVENT
DTSTART;TZID=America/New_York:20241208T090000
DTEND;TZID=America/New_York:20241208T100000
DTSTAMP:20260420T100520
CREATED:20241121T155306Z
LAST-MODIFIED:20241121T155306Z
UID:8961-1733648400-1733652000@72chew.net
SUMMARY:9:00 WV8RKL\, Randall
DESCRIPTION:
URL:http://72chew.net/event/900-wv8rkl-randall-131/
LOCATION:7.272 Mhz
CATEGORIES:NCS slots
END:VEVENT
BEGIN:VEVENT
DTSTART;TZID=America/New_York:20241208T100000
DTEND;TZID=America/New_York:20241208T110000
DTSTAMP:20260420T100520
CREATED:20241121T155306Z
LAST-MODIFIED:20241121T155306Z
UID:8962-1733652000-1733655600@72chew.net
SUMMARY:10:00 W8LWX\, John
DESCRIPTION:
URL:http://72chew.net/event/1000-w8lwx-john-323/
LOCATION:7.272 Mhz
CATEGORIES:NCS slots
END:VEVENT
BEGIN:VEVENT
DTSTART;TZID=America/New_York:20241208T110000
DTEND;TZID=America/New_York:20241208T120000
DTSTAMP:20260420T100520
CREATED:20241121T155306Z
LAST-MODIFIED:20241121T155306Z
UID:8963-1733655600-1733659200@72chew.net
SUMMARY:11:00 KJ4UYR\, Janice
DESCRIPTION:
URL:http://72chew.net/event/1100-kj4uyr-janice-168/
LOCATION:7.272 Mhz
CATEGORIES:NCS slots
END:VEVENT
BEGIN:VEVENT
DTSTART;TZID=America/New_York:20241209T090000
DTEND;TZID=America/New_York:20241209T100000
DTSTAMP:20260420T100520
CREATED:20241121T155307Z
LAST-MODIFIED:20241121T155307Z
UID:8964-1733734800-1733738400@72chew.net
SUMMARY:9:00 WA2AXZ\, Loby
DESCRIPTION:
URL:http://72chew.net/event/900-wa2axz-loby-521/
LOCATION:7.272 Mhz
CATEGORIES:NCS slots
END:VEVENT
BEGIN:VEVENT
DTSTART;TZID=America/New_York:20241209T100000
DTEND;TZID=America/New_York:20241209T110000
DTSTAMP:20260420T100520
CREATED:20241121T155320Z
LAST-MODIFIED:20241211T001510Z
UID:8965-1733738400-1733742000@72chew.net
SUMMARY:10:00 KB8MQR\, Brent
DESCRIPTION:
URL:http://72chew.net/event/1000-ncs-needed-temporary-23/
LOCATION:7.272 Mhz
CATEGORIES:NCS slots
END:VEVENT
BEGIN:VEVENT
DTSTART;TZID=America/New_York:20241209T110000
DTEND;TZID=America/New_York:20241209T120000
DTSTAMP:20260420T100520
CREATED:20241121T155321Z
LAST-MODIFIED:20241121T155321Z
UID:8966-1733742000-1733745600@72chew.net
SUMMARY:11:00 KB3LGO\, Walt
DESCRIPTION:
URL:http://72chew.net/event/1100-kb3lgo-walt-340/
LOCATION:7.272 Mhz
CATEGORIES:NCS slots
END:VEVENT
BEGIN:VEVENT
DTSTART;TZID=America/New_York:20241210T090000
DTEND;TZID=America/New_York:20241210T100000
DTSTAMP:20260420T100520
CREATED:20241121T155321Z
LAST-MODIFIED:20241211T001206Z
UID:8967-1733821200-1733824800@72chew.net
SUMMARY:9:00 KB8MQR\, Brent
DESCRIPTION:
URL:http://72chew.net/event/900-ncs-needed-temporary-25/
LOCATION:7.272 Mhz
CATEGORIES:NCS slots
END:VEVENT
BEGIN:VEVENT
DTSTART;TZID=America/New_York:20241210T100000
DTEND;TZID=America/New_York:20241210T110000
DTSTAMP:20260420T100520
CREATED:20241121T155321Z
LAST-MODIFIED:20241211T000749Z
UID:8968-1733824800-1733828400@72chew.net
SUMMARY:10:00 N9TFO\, Steve
DESCRIPTION:
URL:http://72chew.net/event/1000-ncs-needed-42/
LOCATION:7.272 Mhz
CATEGORIES:NCS slots
END:VEVENT
BEGIN:VEVENT
DTSTART;TZID=America/New_York:20241210T110000
DTEND;TZID=America/New_York:20241210T120000
DTSTAMP:20260420T100520
CREATED:20241121T155322Z
LAST-MODIFIED:20241121T155322Z
UID:8969-1733828400-1733832000@72chew.net
SUMMARY:11:00 AB2UE\, Terry
DESCRIPTION:
URL:http://72chew.net/event/1100-ab2ue-terry-158/
LOCATION:7.272 Mhz
CATEGORIES:NCS slots
END:VEVENT
BEGIN:VEVENT
DTSTART;TZID=America/New_York:20241211T090000
DTEND;TZID=America/New_York:20241211T100000
DTSTAMP:20260420T100520
CREATED:20241121T155336Z
LAST-MODIFIED:20241121T155336Z
UID:8970-1733907600-1733911200@72chew.net
SUMMARY:9:00 KC8OEX\, Terry
DESCRIPTION:
URL:http://72chew.net/event/900-kc8oex-terry-180/
LOCATION:7.272 Mhz
CATEGORIES:NCS slots
END:VEVENT
BEGIN:VEVENT
DTSTART;TZID=America/New_York:20241211T100000
DTEND;TZID=America/New_York:20241211T110000
DTSTAMP:20260420T100520
CREATED:20241121T155336Z
LAST-MODIFIED:20241121T155336Z
UID:8971-1733911200-1733914800@72chew.net
SUMMARY:10:00 WA2ISC\, Kevin
DESCRIPTION:
URL:http://72chew.net/event/1000-wa2isc-kevin-318/
LOCATION:7.272 Mhz
CATEGORIES:NCS slots
END:VEVENT
BEGIN:VEVENT
DTSTART;TZID=America/New_York:20241211T110000
DTEND;TZID=America/New_York:20241211T120000
DTSTAMP:20260420T100520
CREATED:20241121T155337Z
LAST-MODIFIED:20241121T155337Z
UID:8972-1733914800-1733918400@72chew.net
SUMMARY:11:00 KB3LGO\, Walt
DESCRIPTION:
URL:http://72chew.net/event/1100-kb3lgo-walt-341/
LOCATION:7.272 Mhz
CATEGORIES:NCS slots
END:VEVENT
BEGIN:VEVENT
DTSTART;TZID=America/New_York:20241212T090000
DTEND;TZID=America/New_York:20241212T100000
DTSTAMP:20260420T100520
CREATED:20241121T155337Z
LAST-MODIFIED:20241121T155337Z
UID:8973-1733994000-1733997600@72chew.net
SUMMARY:9:00 KB1HPV\, Chad
DESCRIPTION:
URL:http://72chew.net/event/900-kb1hpv-chad-167/
LOCATION:7.272 Mhz
CATEGORIES:NCS slots
END:VEVENT
BEGIN:VEVENT
DTSTART;TZID=America/New_York:20241212T100000
DTEND;TZID=America/New_York:20241212T110000
DTSTAMP:20260420T100520
CREATED:20241121T155337Z
LAST-MODIFIED:20241121T155337Z
UID:8974-1733997600-1734001200@72chew.net
SUMMARY:10:00 KM4NOU\, Joel
DESCRIPTION:
URL:http://72chew.net/event/1000-km4nou-joel-297/
LOCATION:7.272 Mhz
CATEGORIES:NCS slots
END:VEVENT
BEGIN:VEVENT
DTSTART;TZID=America/New_York:20241212T110000
DTEND;TZID=America/New_York:20241212T120000
DTSTAMP:20260420T100520
CREATED:20241121T155350Z
LAST-MODIFIED:20241121T155350Z
UID:8975-1734001200-1734004800@72chew.net
SUMMARY:11:00 KB3LGO\, Walt
DESCRIPTION:
URL:http://72chew.net/event/1100-kb3lgo-walt-342/
LOCATION:7.272 Mhz
CATEGORIES:NCS slots
END:VEVENT
BEGIN:VEVENT
DTSTART;TZID=America/New_York:20241213T090000
DTEND;TZID=America/New_York:20241213T100000
DTSTAMP:20260420T100520
CREATED:20241121T155351Z
LAST-MODIFIED:20241121T155351Z
UID:8976-1734080400-1734084000@72chew.net
SUMMARY:9:00 WA2AXZ\, Loby
DESCRIPTION:
URL:http://72chew.net/event/900-wa2axz-loby-522/
LOCATION:7.272 Mhz
CATEGORIES:NCS slots
END:VEVENT
BEGIN:VEVENT
DTSTART;TZID=America/New_York:20241213T100000
DTEND;TZID=America/New_York:20241213T110000
DTSTAMP:20260420T100520
CREATED:20241121T155351Z
LAST-MODIFIED:20241121T155351Z
UID:8977-1734084000-1734087600@72chew.net
SUMMARY:10:00 W4WEL\, Scott
DESCRIPTION:
URL:http://72chew.net/event/1000-w4wel-scott-129/
LOCATION:7.272 Mhz
CATEGORIES:NCS slots
END:VEVENT
BEGIN:VEVENT
DTSTART;TZID=America/New_York:20241213T110000
DTEND;TZID=America/New_York:20241213T120000
DTSTAMP:20260420T100520
CREATED:20241121T155352Z
LAST-MODIFIED:20241121T155352Z
UID:8978-1734087600-1734091200@72chew.net
SUMMARY:11:00 WB1CEI\, Ed
DESCRIPTION:
URL:http://72chew.net/event/1100-wb1cei-ed-94/
LOCATION:7.272 Mhz
CATEGORIES:NCS slots
END:VEVENT
BEGIN:VEVENT
DTSTART;TZID=America/New_York:20241214T090000
DTEND;TZID=America/New_York:20241214T100000
DTSTAMP:20260420T100520
CREATED:20241121T155352Z
LAST-MODIFIED:20241121T155352Z
UID:8979-1734166800-1734170400@72chew.net
SUMMARY:9:00 K2YN\, John
DESCRIPTION:
URL:http://72chew.net/event/900-k2yn-john-107/
LOCATION:7.272 Mhz
CATEGORIES:NCS slots
END:VEVENT
BEGIN:VEVENT
DTSTART;TZID=America/New_York:20241214T100000
DTEND;TZID=America/New_York:20241214T110000
DTSTAMP:20260420T100520
CREATED:20241121T155405Z
LAST-MODIFIED:20241121T155405Z
UID:8980-1734170400-1734174000@72chew.net
SUMMARY:10:00 WA2AXZ\, Loby
DESCRIPTION:
URL:http://72chew.net/event/1000-wa2axz-loby-11/
LOCATION:7.272 Mhz
CATEGORIES:NCS slots
END:VEVENT
BEGIN:VEVENT
DTSTART;TZID=America/New_York:20241214T110000
DTEND;TZID=America/New_York:20241214T120000
DTSTAMP:20260420T100520
CREATED:20241121T155406Z
LAST-MODIFIED:20241121T155406Z
UID:8981-1734174000-1734177600@72chew.net
SUMMARY:11:00 NCS Needed
DESCRIPTION:
URL:http://72chew.net/event/1100-ncs-needed-63/
LOCATION:7.272 Mhz
CATEGORIES:NCS slots
END:VEVENT
END:VCALENDAR