BEGIN:VCALENDAR
VERSION:2.0
PRODID:-//72 Chew - ECPv6.15.18//NONSGML v1.0//EN
CALSCALE:GREGORIAN
METHOD:PUBLISH
X-ORIGINAL-URL:http://72chew.net
X-WR-CALDESC:Events for 72 Chew
REFRESH-INTERVAL;VALUE=DURATION:PT1H
X-Robots-Tag:noindex
X-PUBLISHED-TTL:PT1H
BEGIN:VTIMEZONE
TZID:America/New_York
BEGIN:DAYLIGHT
TZOFFSETFROM:-0500
TZOFFSETTO:-0400
TZNAME:EDT
DTSTART:20240310T070000
END:DAYLIGHT
BEGIN:STANDARD
TZOFFSETFROM:-0400
TZOFFSETTO:-0500
TZNAME:EST
DTSTART:20241103T060000
END:STANDARD
BEGIN:DAYLIGHT
TZOFFSETFROM:-0500
TZOFFSETTO:-0400
TZNAME:EDT
DTSTART:20250309T070000
END:DAYLIGHT
BEGIN:STANDARD
TZOFFSETFROM:-0400
TZOFFSETTO:-0500
TZNAME:EST
DTSTART:20251102T060000
END:STANDARD
BEGIN:DAYLIGHT
TZOFFSETFROM:-0500
TZOFFSETTO:-0400
TZNAME:EDT
DTSTART:20260308T070000
END:DAYLIGHT
BEGIN:STANDARD
TZOFFSETFROM:-0400
TZOFFSETTO:-0500
TZNAME:EST
DTSTART:20261101T060000
END:STANDARD
END:VTIMEZONE
BEGIN:VEVENT
DTSTART;TZID=America/New_York:20250626T090000
DTEND;TZID=America/New_York:20250626T100000
DTSTAMP:20260420T082209
CREATED:20250529T144226Z
LAST-MODIFIED:20250529T144226Z
UID:9697-1750928400-1750932000@72chew.net
SUMMARY:9:00 KB1HPV\, Chad
DESCRIPTION:
URL:http://72chew.net/event/900-kb1hpv-chad-195/
LOCATION:7.272 Mhz
CATEGORIES:NCS slots
END:VEVENT
BEGIN:VEVENT
DTSTART;TZID=America/New_York:20250626T100000
DTEND;TZID=America/New_York:20250626T110000
DTSTAMP:20260420T082209
CREATED:20250529T144227Z
LAST-MODIFIED:20250529T144227Z
UID:9698-1750932000-1750935600@72chew.net
SUMMARY:10:00 KM4NOU\, Joel
DESCRIPTION:
URL:http://72chew.net/event/1000-km4nou-joel-325/
LOCATION:7.272 Mhz
CATEGORIES:NCS slots
END:VEVENT
BEGIN:VEVENT
DTSTART;TZID=America/New_York:20250626T110000
DTEND;TZID=America/New_York:20250626T120000
DTSTAMP:20260420T082209
CREATED:20250529T144228Z
LAST-MODIFIED:20250529T144228Z
UID:9699-1750935600-1750939200@72chew.net
SUMMARY:11:00 **suspended until fall 2025
DESCRIPTION:
URL:http://72chew.net/event/1100-suspended-until-fall-2025-22/
LOCATION:7.272 Mhz
CATEGORIES:NCS slots
END:VEVENT
BEGIN:VEVENT
DTSTART;TZID=America/New_York:20250627T090000
DTEND;TZID=America/New_York:20250627T100000
DTSTAMP:20260420T082209
CREATED:20250529T144228Z
LAST-MODIFIED:20250529T144228Z
UID:9700-1751014800-1751018400@72chew.net
SUMMARY:9:00 WA2AXZ\, Loby
DESCRIPTION:
URL:http://72chew.net/event/900-wa2axz-loby-557/
LOCATION:7.272 Mhz
CATEGORIES:NCS slots
END:VEVENT
BEGIN:VEVENT
DTSTART;TZID=America/New_York:20250627T100000
DTEND;TZID=America/New_York:20250627T110000
DTSTAMP:20260420T082209
CREATED:20250529T144229Z
LAST-MODIFIED:20250529T144229Z
UID:9701-1751018400-1751022000@72chew.net
SUMMARY:10:00 W4WEL\, Scott
DESCRIPTION:
URL:http://72chew.net/event/1000-w4wel-scott-157/
LOCATION:7.272 Mhz
CATEGORIES:NCS slots
END:VEVENT
BEGIN:VEVENT
DTSTART;TZID=America/New_York:20250627T110000
DTEND;TZID=America/New_York:20250627T120000
DTSTAMP:20260420T082209
CREATED:20250529T144241Z
LAST-MODIFIED:20250529T144241Z
UID:9702-1751022000-1751025600@72chew.net
SUMMARY:11:00 **suspended until fall 2025
DESCRIPTION:
URL:http://72chew.net/event/1100-suspended-until-fall-2025-23/
LOCATION:7.272 Mhz
CATEGORIES:NCS slots
END:VEVENT
BEGIN:VEVENT
DTSTART;TZID=America/New_York:20250628T090000
DTEND;TZID=America/New_York:20250628T100000
DTSTAMP:20260420T082209
CREATED:20250529T144242Z
LAST-MODIFIED:20250529T144242Z
UID:9703-1751101200-1751104800@72chew.net
SUMMARY:9:00 K2YN\, John
DESCRIPTION:
URL:http://72chew.net/event/900-k2yn-john-135/
LOCATION:7.272 Mhz
CATEGORIES:NCS slots
END:VEVENT
BEGIN:VEVENT
DTSTART;TZID=America/New_York:20250628T100000
DTEND;TZID=America/New_York:20250628T110000
DTSTAMP:20260420T082209
CREATED:20250529T144242Z
LAST-MODIFIED:20250529T144242Z
UID:9704-1751104800-1751108400@72chew.net
SUMMARY:10:00 WA2AXZ\, Loby
DESCRIPTION:
URL:http://72chew.net/event/1000-wa2axz-loby-39/
LOCATION:7.272 Mhz
CATEGORIES:NCS slots
END:VEVENT
BEGIN:VEVENT
DTSTART;TZID=America/New_York:20250628T110000
DTEND;TZID=America/New_York:20250628T120000
DTSTAMP:20260420T082209
CREATED:20250529T144243Z
LAST-MODIFIED:20250529T144243Z
UID:9705-1751108400-1751112000@72chew.net
SUMMARY:11:00 **suspended until fall 2025
DESCRIPTION:
URL:http://72chew.net/event/1100-suspended-until-fall-2025-24/
LOCATION:7.272 Mhz
CATEGORIES:NCS slots
END:VEVENT
BEGIN:VEVENT
DTSTART;TZID=America/New_York:20250629T090000
DTEND;TZID=America/New_York:20250629T100000
DTSTAMP:20260420T082209
CREATED:20250529T144244Z
LAST-MODIFIED:20250627T155116Z
UID:9706-1751187600-1751191200@72chew.net
SUMMARY:9:00 **Field Day\, no net
DESCRIPTION:
URL:http://72chew.net/event/900-wv8rkl-randall-160/
LOCATION:7.272 Mhz
CATEGORIES:NCS slots
END:VEVENT
BEGIN:VEVENT
DTSTART;TZID=America/New_York:20250629T100000
DTEND;TZID=America/New_York:20250629T110000
DTSTAMP:20260420T082209
CREATED:20250529T144256Z
LAST-MODIFIED:20250627T155142Z
UID:9707-1751191200-1751194800@72chew.net
SUMMARY:10:00 **Field Day\, no net
DESCRIPTION:
URL:http://72chew.net/event/1000-w8lwx-john-352/
LOCATION:7.272 Mhz
CATEGORIES:NCS slots
END:VEVENT
BEGIN:VEVENT
DTSTART;TZID=America/New_York:20250629T110000
DTEND;TZID=America/New_York:20250629T120000
DTSTAMP:20260420T082209
CREATED:20250529T144257Z
LAST-MODIFIED:20250627T155206Z
UID:9708-1751194800-1751198400@72chew.net
SUMMARY:11:00 **Field Day\, no net
DESCRIPTION:
URL:http://72chew.net/event/1100-kj4uyr-janice-184/
LOCATION:7.272 Mhz
CATEGORIES:NCS slots
END:VEVENT
BEGIN:VEVENT
DTSTART;TZID=America/New_York:20250630T090000
DTEND;TZID=America/New_York:20250630T100000
DTSTAMP:20260420T082209
CREATED:20250529T144257Z
LAST-MODIFIED:20250529T144257Z
UID:9709-1751274000-1751277600@72chew.net
SUMMARY:9:00 KZ2KCK\, Rich
DESCRIPTION:
URL:http://72chew.net/event/900-kz2kck-rich-23/
LOCATION:7.272 Mhz
CATEGORIES:NCS slots
END:VEVENT
BEGIN:VEVENT
DTSTART;TZID=America/New_York:20250630T100000
DTEND;TZID=America/New_York:20250630T110000
DTSTAMP:20260420T082209
CREATED:20250529T144258Z
LAST-MODIFIED:20250529T144258Z
UID:9710-1751277600-1751281200@72chew.net
SUMMARY:10:00 KC8OEX\, Terry
DESCRIPTION:
URL:http://72chew.net/event/1000-kc8oex-terry-15/
LOCATION:7.272 Mhz
CATEGORIES:NCS slots
END:VEVENT
BEGIN:VEVENT
DTSTART;TZID=America/New_York:20250630T110000
DTEND;TZID=America/New_York:20250630T120000
DTSTAMP:20260420T082209
CREATED:20250529T144258Z
LAST-MODIFIED:20250529T144258Z
UID:9711-1751281200-1751284800@72chew.net
SUMMARY:11:00 **suspended until fall 2025
DESCRIPTION:
URL:http://72chew.net/event/1100-suspended-until-fall-2025-25/
LOCATION:7.272 Mhz
CATEGORIES:NCS slots
END:VEVENT
BEGIN:VEVENT
DTSTART;TZID=America/New_York:20250701T090000
DTEND;TZID=America/New_York:20250701T100000
DTSTAMP:20260420T082209
CREATED:20250627T155333Z
LAST-MODIFIED:20250627T155333Z
UID:9720-1751360400-1751364000@72chew.net
SUMMARY:9:00 WB1CEI\, Ed
DESCRIPTION:
URL:http://72chew.net/event/900-wb1cei-ed-5/
LOCATION:7.272 Mhz
CATEGORIES:NCS slots
END:VEVENT
BEGIN:VEVENT
DTSTART;TZID=America/New_York:20250701T100000
DTEND;TZID=America/New_York:20250701T110000
DTSTAMP:20260420T082209
CREATED:20250627T155334Z
LAST-MODIFIED:20250627T155334Z
UID:9721-1751364000-1751367600@72chew.net
SUMMARY:10:00 N9TFO\, Steve
DESCRIPTION:
URL:http://72chew.net/event/1000-n9tfo-steve-25/
LOCATION:7.272 Mhz
CATEGORIES:NCS slots
END:VEVENT
BEGIN:VEVENT
DTSTART;TZID=America/New_York:20250701T110000
DTEND;TZID=America/New_York:20250701T120000
DTSTAMP:20260420T082209
CREATED:20250627T155334Z
LAST-MODIFIED:20250627T155334Z
UID:9722-1751367600-1751371200@72chew.net
SUMMARY:11:00 **suspended until fall 2025
DESCRIPTION:
URL:http://72chew.net/event/1100-suspended-until-fall-2025-26/
LOCATION:7.272 Mhz
CATEGORIES:NCS slots
END:VEVENT
BEGIN:VEVENT
DTSTART;TZID=America/New_York:20250702T090000
DTEND;TZID=America/New_York:20250702T100000
DTSTAMP:20260420T082209
CREATED:20250627T155335Z
LAST-MODIFIED:20250627T155335Z
UID:9723-1751446800-1751450400@72chew.net
SUMMARY:9:00 KC8OEX\, Terry
DESCRIPTION:
URL:http://72chew.net/event/900-kc8oex-terry-209/
LOCATION:7.272 Mhz
CATEGORIES:NCS slots
END:VEVENT
BEGIN:VEVENT
DTSTART;TZID=America/New_York:20250702T100000
DTEND;TZID=America/New_York:20250702T110000
DTSTAMP:20260420T082209
CREATED:20250627T155336Z
LAST-MODIFIED:20250627T155336Z
UID:9724-1751450400-1751454000@72chew.net
SUMMARY:10:00 WA2ISC\, Kevin
DESCRIPTION:
URL:http://72chew.net/event/1000-wa2isc-kevin-347/
LOCATION:7.272 Mhz
CATEGORIES:NCS slots
END:VEVENT
BEGIN:VEVENT
DTSTART;TZID=America/New_York:20250702T110000
DTEND;TZID=America/New_York:20250702T120000
DTSTAMP:20260420T082209
CREATED:20250627T155338Z
LAST-MODIFIED:20250627T155338Z
UID:9725-1751454000-1751457600@72chew.net
SUMMARY:11:00 **suspended until fall 2025
DESCRIPTION:
URL:http://72chew.net/event/1100-suspended-until-fall-2025-27/
LOCATION:7.272 Mhz
CATEGORIES:NCS slots
END:VEVENT
BEGIN:VEVENT
DTSTART;TZID=America/New_York:20250703T090000
DTEND;TZID=America/New_York:20250703T100000
DTSTAMP:20260420T082209
CREATED:20250627T155338Z
LAST-MODIFIED:20250627T155338Z
UID:9726-1751533200-1751536800@72chew.net
SUMMARY:9:00 KB1HPV\, Chad
DESCRIPTION:
URL:http://72chew.net/event/900-kb1hpv-chad-196/
LOCATION:7.272 Mhz
CATEGORIES:NCS slots
END:VEVENT
BEGIN:VEVENT
DTSTART;TZID=America/New_York:20250703T100000
DTEND;TZID=America/New_York:20250703T110000
DTSTAMP:20260420T082209
CREATED:20250627T155339Z
LAST-MODIFIED:20250627T155339Z
UID:9727-1751536800-1751540400@72chew.net
SUMMARY:10:00 KM4NOU\, Joel
DESCRIPTION:
URL:http://72chew.net/event/1000-km4nou-joel-326/
LOCATION:7.272 Mhz
CATEGORIES:NCS slots
END:VEVENT
BEGIN:VEVENT
DTSTART;TZID=America/New_York:20250703T110000
DTEND;TZID=America/New_York:20250703T120000
DTSTAMP:20260420T082209
CREATED:20250627T155339Z
LAST-MODIFIED:20250627T155339Z
UID:9728-1751540400-1751544000@72chew.net
SUMMARY:11:00 **suspended until fall 2025
DESCRIPTION:
URL:http://72chew.net/event/1100-suspended-until-fall-2025-28/
LOCATION:7.272 Mhz
CATEGORIES:NCS slots
END:VEVENT
BEGIN:VEVENT
DTSTART;TZID=America/New_York:20250704T090000
DTEND;TZID=America/New_York:20250704T100000
DTSTAMP:20260420T082209
CREATED:20250627T155339Z
LAST-MODIFIED:20250627T155339Z
UID:9729-1751619600-1751623200@72chew.net
SUMMARY:9:00 WA2AXZ\, Loby
DESCRIPTION:
URL:http://72chew.net/event/900-wa2axz-loby-558/
LOCATION:7.272 Mhz
CATEGORIES:NCS slots
END:VEVENT
BEGIN:VEVENT
DTSTART;TZID=America/New_York:20250704T100000
DTEND;TZID=America/New_York:20250704T110000
DTSTAMP:20260420T082209
CREATED:20250627T155353Z
LAST-MODIFIED:20250627T155353Z
UID:9730-1751623200-1751626800@72chew.net
SUMMARY:10:00 W4WEL\, Scott
DESCRIPTION:
URL:http://72chew.net/event/1000-w4wel-scott-158/
LOCATION:7.272 Mhz
CATEGORIES:NCS slots
END:VEVENT
BEGIN:VEVENT
DTSTART;TZID=America/New_York:20250704T110000
DTEND;TZID=America/New_York:20250704T120000
DTSTAMP:20260420T082209
CREATED:20250627T155354Z
LAST-MODIFIED:20250627T155354Z
UID:9731-1751626800-1751630400@72chew.net
SUMMARY:11:00 **suspended until fall 2025
DESCRIPTION:
URL:http://72chew.net/event/1100-suspended-until-fall-2025-29/
LOCATION:7.272 Mhz
CATEGORIES:NCS slots
END:VEVENT
BEGIN:VEVENT
DTSTART;TZID=America/New_York:20250705T090000
DTEND;TZID=America/New_York:20250705T100000
DTSTAMP:20260420T082209
CREATED:20250627T155354Z
LAST-MODIFIED:20250627T155354Z
UID:9732-1751706000-1751709600@72chew.net
SUMMARY:9:00 K2YN\, John
DESCRIPTION:
URL:http://72chew.net/event/900-k2yn-john-136/
LOCATION:7.272 Mhz
CATEGORIES:NCS slots
END:VEVENT
BEGIN:VEVENT
DTSTART;TZID=America/New_York:20250705T100000
DTEND;TZID=America/New_York:20250705T110000
DTSTAMP:20260420T082209
CREATED:20250627T155355Z
LAST-MODIFIED:20250627T155355Z
UID:9733-1751709600-1751713200@72chew.net
SUMMARY:10:00 WA2AXZ\, Loby
DESCRIPTION:
URL:http://72chew.net/event/1000-wa2axz-loby-40/
LOCATION:7.272 Mhz
CATEGORIES:NCS slots
END:VEVENT
BEGIN:VEVENT
DTSTART;TZID=America/New_York:20250705T110000
DTEND;TZID=America/New_York:20250705T120000
DTSTAMP:20260420T082209
CREATED:20250627T155355Z
LAST-MODIFIED:20250627T155355Z
UID:9734-1751713200-1751716800@72chew.net
SUMMARY:11:00 **suspended until fall 2025
DESCRIPTION:
URL:http://72chew.net/event/1100-suspended-until-fall-2025-30/
LOCATION:7.272 Mhz
CATEGORIES:NCS slots
END:VEVENT
END:VCALENDAR