BEGIN:VCALENDAR
VERSION:2.0
PRODID:-//72 Chew - ECPv6.15.18//NONSGML v1.0//EN
CALSCALE:GREGORIAN
METHOD:PUBLISH
X-WR-CALNAME:72 Chew
X-ORIGINAL-URL:http://72chew.net
X-WR-CALDESC:Events for 72 Chew
REFRESH-INTERVAL;VALUE=DURATION:PT1H
X-Robots-Tag:noindex
X-PUBLISHED-TTL:PT1H
BEGIN:VTIMEZONE
TZID:America/New_York
BEGIN:DAYLIGHT
TZOFFSETFROM:-0500
TZOFFSETTO:-0400
TZNAME:EDT
DTSTART:20230312T070000
END:DAYLIGHT
BEGIN:STANDARD
TZOFFSETFROM:-0400
TZOFFSETTO:-0500
TZNAME:EST
DTSTART:20231105T060000
END:STANDARD
BEGIN:DAYLIGHT
TZOFFSETFROM:-0500
TZOFFSETTO:-0400
TZNAME:EDT
DTSTART:20240310T070000
END:DAYLIGHT
BEGIN:STANDARD
TZOFFSETFROM:-0400
TZOFFSETTO:-0500
TZNAME:EST
DTSTART:20241103T060000
END:STANDARD
BEGIN:DAYLIGHT
TZOFFSETFROM:-0500
TZOFFSETTO:-0400
TZNAME:EDT
DTSTART:20250309T070000
END:DAYLIGHT
BEGIN:STANDARD
TZOFFSETFROM:-0400
TZOFFSETTO:-0500
TZNAME:EST
DTSTART:20251102T060000
END:STANDARD
END:VTIMEZONE
BEGIN:VEVENT
DTSTART;TZID=America/New_York:20240726T100000
DTEND;TZID=America/New_York:20240726T110000
DTSTAMP:20260419T114203
CREATED:20240701T140841Z
LAST-MODIFIED:20240701T140841Z
UID:8508-1721988000-1721991600@72chew.net
SUMMARY:10:00 W4WEL\, Scott
DESCRIPTION:
URL:http://72chew.net/event/1000-w4wel-scott-109/
LOCATION:7.272 Mhz
CATEGORIES:NCS slots
END:VEVENT
BEGIN:VEVENT
DTSTART;TZID=America/New_York:20240726T090000
DTEND;TZID=America/New_York:20240726T100000
DTSTAMP:20260419T114203
CREATED:20240701T140840Z
LAST-MODIFIED:20240701T140840Z
UID:8507-1721984400-1721988000@72chew.net
SUMMARY:9:00 WA2AXZ\, Loby
DESCRIPTION:
URL:http://72chew.net/event/900-wa2axz-loby-482/
LOCATION:7.272 Mhz
CATEGORIES:NCS slots
END:VEVENT
BEGIN:VEVENT
DTSTART;TZID=America/New_York:20240725T110000
DTEND;TZID=America/New_York:20240725T120000
DTSTAMP:20260419T114203
CREATED:20240701T140827Z
LAST-MODIFIED:20240701T140827Z
UID:8506-1721905200-1721908800@72chew.net
SUMMARY:11:00 KB3LGO\, Walt
DESCRIPTION:
URL:http://72chew.net/event/1100-kb3lgo-walt-282/
LOCATION:7.272 Mhz
CATEGORIES:NCS slots
END:VEVENT
BEGIN:VEVENT
DTSTART;TZID=America/New_York:20240725T100000
DTEND;TZID=America/New_York:20240725T110000
DTSTAMP:20260419T114203
CREATED:20240701T140827Z
LAST-MODIFIED:20240701T140827Z
UID:8505-1721901600-1721905200@72chew.net
SUMMARY:10:00 KM4NOU\, Joel
DESCRIPTION:
URL:http://72chew.net/event/1000-km4nou-joel-277/
LOCATION:7.272 Mhz
CATEGORIES:NCS slots
END:VEVENT
BEGIN:VEVENT
DTSTART;TZID=America/New_York:20240725T090000
DTEND;TZID=America/New_York:20240725T100000
DTSTAMP:20260419T114203
CREATED:20240701T140826Z
LAST-MODIFIED:20240701T140826Z
UID:8504-1721898000-1721901600@72chew.net
SUMMARY:9:00 KB1HPV\, Chad
DESCRIPTION:
URL:http://72chew.net/event/900-kb1hpv-chad-147/
LOCATION:7.272 Mhz
CATEGORIES:NCS slots
END:VEVENT
BEGIN:VEVENT
DTSTART;TZID=America/New_York:20240724T110000
DTEND;TZID=America/New_York:20240724T120000
DTSTAMP:20260419T114203
CREATED:20240701T140826Z
LAST-MODIFIED:20240701T140826Z
UID:8503-1721818800-1721822400@72chew.net
SUMMARY:11:00 KB3LGO\, Walt
DESCRIPTION:
URL:http://72chew.net/event/1100-kb3lgo-walt-281/
LOCATION:7.272 Mhz
CATEGORIES:NCS slots
END:VEVENT
BEGIN:VEVENT
DTSTART;TZID=America/New_York:20240724T100000
DTEND;TZID=America/New_York:20240724T110000
DTSTAMP:20260419T114203
CREATED:20240701T140826Z
LAST-MODIFIED:20240701T140826Z
UID:8502-1721815200-1721818800@72chew.net
SUMMARY:10:00 WA2ISC\, Kevin
DESCRIPTION:
URL:http://72chew.net/event/1000-wa2isc-kevin-298/
LOCATION:7.272 Mhz
CATEGORIES:NCS slots
END:VEVENT
BEGIN:VEVENT
DTSTART;TZID=America/New_York:20240724T090000
DTEND;TZID=America/New_York:20240724T100000
DTSTAMP:20260419T114203
CREATED:20240701T140811Z
LAST-MODIFIED:20240701T140811Z
UID:8501-1721811600-1721815200@72chew.net
SUMMARY:9:00 KC8OEX\, Terry
DESCRIPTION:
URL:http://72chew.net/event/900-kc8oex-terry-160/
LOCATION:7.272 Mhz
CATEGORIES:NCS slots
END:VEVENT
BEGIN:VEVENT
DTSTART;TZID=America/New_York:20240723T110000
DTEND;TZID=America/New_York:20240723T120000
DTSTAMP:20260419T114203
CREATED:20240701T140811Z
LAST-MODIFIED:20240701T140811Z
UID:8500-1721732400-1721736000@72chew.net
SUMMARY:11:00 AB2UE\, Terry
DESCRIPTION:
URL:http://72chew.net/event/1100-ab2ue-terry-138/
LOCATION:7.272 Mhz
CATEGORIES:NCS slots
END:VEVENT
BEGIN:VEVENT
DTSTART;TZID=America/New_York:20240723T100000
DTEND;TZID=America/New_York:20240723T110000
DTSTAMP:20260419T114203
CREATED:20240701T140811Z
LAST-MODIFIED:20240701T140811Z
UID:8499-1721728800-1721732400@72chew.net
SUMMARY:10:00 NCS Needed (Permanent)
DESCRIPTION:
URL:http://72chew.net/event/1000-ncs-needed-permanent-4/
LOCATION:7.272 Mhz
CATEGORIES:NCS slots
END:VEVENT
BEGIN:VEVENT
DTSTART;TZID=America/New_York:20240723T090000
DTEND;TZID=America/New_York:20240723T100000
DTSTAMP:20260419T114203
CREATED:20240701T140810Z
LAST-MODIFIED:20240701T140810Z
UID:8498-1721725200-1721728800@72chew.net
SUMMARY:9:00 NCS Needed (Temporary)
DESCRIPTION:
URL:http://72chew.net/event/900-ncs-needed-temporary-8/
LOCATION:7.272 Mhz
CATEGORIES:NCS slots
END:VEVENT
BEGIN:VEVENT
DTSTART;TZID=America/New_York:20240722T110000
DTEND;TZID=America/New_York:20240722T120000
DTSTAMP:20260419T114203
CREATED:20240701T140810Z
LAST-MODIFIED:20240701T140810Z
UID:8497-1721646000-1721649600@72chew.net
SUMMARY:11:00 KB3LGO\, Walt
DESCRIPTION:
URL:http://72chew.net/event/1100-kb3lgo-walt-280/
LOCATION:7.272 Mhz
CATEGORIES:NCS slots
END:VEVENT
BEGIN:VEVENT
DTSTART;TZID=America/New_York:20240722T100000
DTEND;TZID=America/New_York:20240722T110000
DTSTAMP:20260419T114203
CREATED:20240701T140757Z
LAST-MODIFIED:20240701T140757Z
UID:8496-1721642400-1721646000@72chew.net
SUMMARY:10:00 NCS Needed (Temporary)
DESCRIPTION:
URL:http://72chew.net/event/1000-ncs-needed-temporary-4/
LOCATION:7.272 Mhz
CATEGORIES:NCS slots
END:VEVENT
BEGIN:VEVENT
DTSTART;TZID=America/New_York:20240722T090000
DTEND;TZID=America/New_York:20240722T100000
DTSTAMP:20260419T114203
CREATED:20240701T140756Z
LAST-MODIFIED:20240701T140756Z
UID:8495-1721638800-1721642400@72chew.net
SUMMARY:9:00 WA2AXZ\, Loby
DESCRIPTION:
URL:http://72chew.net/event/900-wa2axz-loby-481/
LOCATION:7.272 Mhz
CATEGORIES:NCS slots
END:VEVENT
BEGIN:VEVENT
DTSTART;TZID=America/New_York:20240721T110000
DTEND;TZID=America/New_York:20240721T120000
DTSTAMP:20260419T114203
CREATED:20240701T140756Z
LAST-MODIFIED:20240701T140756Z
UID:8494-1721559600-1721563200@72chew.net
SUMMARY:11:00 WB8VCR\, Tom
DESCRIPTION:
URL:http://72chew.net/event/1100-wb8vcr-tom-8/
LOCATION:7.272 Mhz
CATEGORIES:NCS slots
END:VEVENT
BEGIN:VEVENT
DTSTART;TZID=America/New_York:20240721T100000
DTEND;TZID=America/New_York:20240721T110000
DTSTAMP:20260419T114203
CREATED:20240701T140755Z
LAST-MODIFIED:20240701T140755Z
UID:8493-1721556000-1721559600@72chew.net
SUMMARY:10:00 W8LWX\, John
DESCRIPTION:
URL:http://72chew.net/event/1000-w8lwx-john-303/
LOCATION:7.272 Mhz
CATEGORIES:NCS slots
END:VEVENT
BEGIN:VEVENT
DTSTART;TZID=America/New_York:20240721T090000
DTEND;TZID=America/New_York:20240721T100000
DTSTAMP:20260419T114203
CREATED:20240701T140755Z
LAST-MODIFIED:20240701T140755Z
UID:8492-1721552400-1721556000@72chew.net
SUMMARY:9:00 WV8RKL\, Randall
DESCRIPTION:
URL:http://72chew.net/event/900-wv8rkl-randall-111/
LOCATION:7.272 Mhz
CATEGORIES:NCS slots
END:VEVENT
BEGIN:VEVENT
DTSTART;TZID=America/New_York:20240720T110000
DTEND;TZID=America/New_York:20240720T120000
DTSTAMP:20260419T114203
CREATED:20240701T140741Z
LAST-MODIFIED:20240701T140741Z
UID:8491-1721473200-1721476800@72chew.net
SUMMARY:11:00 WA2AXZ\, Loby (temporary)
DESCRIPTION:
URL:http://72chew.net/event/1100-wa2axz-loby-temporary-84/
LOCATION:7.272 Mhz
CATEGORIES:NCS slots
END:VEVENT
BEGIN:VEVENT
DTSTART;TZID=America/New_York:20240720T100000
DTEND;TZID=America/New_York:20240720T110000
DTSTAMP:20260419T114203
CREATED:20240701T140741Z
LAST-MODIFIED:20240701T140741Z
UID:8490-1721469600-1721473200@72chew.net
SUMMARY:10:00 KC8OEX\, Terry
DESCRIPTION:
URL:http://72chew.net/event/1000-kc8oex-terry-4/
LOCATION:7.272 Mhz
CATEGORIES:NCS slots
END:VEVENT
BEGIN:VEVENT
DTSTART;TZID=America/New_York:20240720T090000
DTEND;TZID=America/New_York:20240720T100000
DTSTAMP:20260419T114203
CREATED:20240701T140741Z
LAST-MODIFIED:20240701T140741Z
UID:8489-1721466000-1721469600@72chew.net
SUMMARY:9:00 K2YN\, John
DESCRIPTION:
URL:http://72chew.net/event/900-k2yn-john-86/
LOCATION:7.272 Mhz
CATEGORIES:NCS slots
END:VEVENT
BEGIN:VEVENT
DTSTART;TZID=America/New_York:20240719T110000
DTEND;TZID=America/New_York:20240719T120000
DTSTAMP:20260419T114203
CREATED:20240701T140740Z
LAST-MODIFIED:20240701T140740Z
UID:8488-1721386800-1721390400@72chew.net
SUMMARY:11:00 WB1CEI\, Ed
DESCRIPTION:
URL:http://72chew.net/event/1100-wb1cei-ed-73/
LOCATION:7.272 Mhz
CATEGORIES:NCS slots
END:VEVENT
BEGIN:VEVENT
DTSTART;TZID=America/New_York:20240719T100000
DTEND;TZID=America/New_York:20240719T110000
DTSTAMP:20260419T114203
CREATED:20240701T140740Z
LAST-MODIFIED:20240701T140740Z
UID:8487-1721383200-1721386800@72chew.net
SUMMARY:10:00 W4WEL\, Scott
DESCRIPTION:
URL:http://72chew.net/event/1000-w4wel-scott-108/
LOCATION:7.272 Mhz
CATEGORIES:NCS slots
END:VEVENT
BEGIN:VEVENT
DTSTART;TZID=America/New_York:20240719T090000
DTEND;TZID=America/New_York:20240719T100000
DTSTAMP:20260419T114203
CREATED:20240701T140728Z
LAST-MODIFIED:20240701T140728Z
UID:8486-1721379600-1721383200@72chew.net
SUMMARY:9:00 WA2AXZ\, Loby
DESCRIPTION:
URL:http://72chew.net/event/900-wa2axz-loby-480/
LOCATION:7.272 Mhz
CATEGORIES:NCS slots
END:VEVENT
BEGIN:VEVENT
DTSTART;TZID=America/New_York:20240718T110000
DTEND;TZID=America/New_York:20240718T120000
DTSTAMP:20260419T114203
CREATED:20240701T140727Z
LAST-MODIFIED:20240701T140727Z
UID:8485-1721300400-1721304000@72chew.net
SUMMARY:11:00 KB3LGO\, Walt
DESCRIPTION:
URL:http://72chew.net/event/1100-kb3lgo-walt-279/
LOCATION:7.272 Mhz
CATEGORIES:NCS slots
END:VEVENT
BEGIN:VEVENT
DTSTART;TZID=America/New_York:20240718T100000
DTEND;TZID=America/New_York:20240718T110000
DTSTAMP:20260419T114203
CREATED:20240701T140727Z
LAST-MODIFIED:20240701T140727Z
UID:8484-1721296800-1721300400@72chew.net
SUMMARY:10:00 KM4NOU\, Joel
DESCRIPTION:
URL:http://72chew.net/event/1000-km4nou-joel-276/
LOCATION:7.272 Mhz
CATEGORIES:NCS slots
END:VEVENT
BEGIN:VEVENT
DTSTART;TZID=America/New_York:20240718T090000
DTEND;TZID=America/New_York:20240718T100000
DTSTAMP:20260419T114203
CREATED:20240701T140726Z
LAST-MODIFIED:20240701T140726Z
UID:8483-1721293200-1721296800@72chew.net
SUMMARY:9:00 KB1HPV\, Chad
DESCRIPTION:
URL:http://72chew.net/event/900-kb1hpv-chad-146/
LOCATION:7.272 Mhz
CATEGORIES:NCS slots
END:VEVENT
BEGIN:VEVENT
DTSTART;TZID=America/New_York:20240717T110000
DTEND;TZID=America/New_York:20240717T120000
DTSTAMP:20260419T114203
CREATED:20240701T140726Z
LAST-MODIFIED:20240701T140726Z
UID:8482-1721214000-1721217600@72chew.net
SUMMARY:11:00 KB3LGO\, Walt
DESCRIPTION:
URL:http://72chew.net/event/1100-kb3lgo-walt-278/
LOCATION:7.272 Mhz
CATEGORIES:NCS slots
END:VEVENT
BEGIN:VEVENT
DTSTART;TZID=America/New_York:20240717T100000
DTEND;TZID=America/New_York:20240717T110000
DTSTAMP:20260419T114203
CREATED:20240701T140714Z
LAST-MODIFIED:20240701T140714Z
UID:8481-1721210400-1721214000@72chew.net
SUMMARY:10:00 WA2ISC\, Kevin
DESCRIPTION:
URL:http://72chew.net/event/1000-wa2isc-kevin-297/
LOCATION:7.272 Mhz
CATEGORIES:NCS slots
END:VEVENT
BEGIN:VEVENT
DTSTART;TZID=America/New_York:20240717T090000
DTEND;TZID=America/New_York:20240717T100000
DTSTAMP:20260419T114203
CREATED:20240701T140713Z
LAST-MODIFIED:20240701T140713Z
UID:8480-1721206800-1721210400@72chew.net
SUMMARY:9:00 KC8OEX\, Terry
DESCRIPTION:
URL:http://72chew.net/event/900-kc8oex-terry-159/
LOCATION:7.272 Mhz
CATEGORIES:NCS slots
END:VEVENT
BEGIN:VEVENT
DTSTART;TZID=America/New_York:20240716T110000
DTEND;TZID=America/New_York:20240716T120000
DTSTAMP:20260419T114204
CREATED:20240701T140712Z
LAST-MODIFIED:20240701T140712Z
UID:8479-1721127600-1721131200@72chew.net
SUMMARY:11:00 AB2UE\, Terry
DESCRIPTION:
URL:http://72chew.net/event/1100-ab2ue-terry-137/
LOCATION:7.272 Mhz
CATEGORIES:NCS slots
END:VEVENT
END:VCALENDAR