BEGIN:VCALENDAR
VERSION:2.0
PRODID:-//72 Chew - ECPv6.15.18//NONSGML v1.0//EN
CALSCALE:GREGORIAN
METHOD:PUBLISH
X-WR-CALNAME:72 Chew
X-ORIGINAL-URL:http://72chew.net
X-WR-CALDESC:Events for 72 Chew
REFRESH-INTERVAL;VALUE=DURATION:PT1H
X-Robots-Tag:noindex
X-PUBLISHED-TTL:PT1H
BEGIN:VTIMEZONE
TZID:America/New_York
BEGIN:DAYLIGHT
TZOFFSETFROM:-0500
TZOFFSETTO:-0400
TZNAME:EDT
DTSTART:20230312T070000
END:DAYLIGHT
BEGIN:STANDARD
TZOFFSETFROM:-0400
TZOFFSETTO:-0500
TZNAME:EST
DTSTART:20231105T060000
END:STANDARD
BEGIN:DAYLIGHT
TZOFFSETFROM:-0500
TZOFFSETTO:-0400
TZNAME:EDT
DTSTART:20240310T070000
END:DAYLIGHT
BEGIN:STANDARD
TZOFFSETFROM:-0400
TZOFFSETTO:-0500
TZNAME:EST
DTSTART:20241103T060000
END:STANDARD
BEGIN:DAYLIGHT
TZOFFSETFROM:-0500
TZOFFSETTO:-0400
TZNAME:EDT
DTSTART:20250309T070000
END:DAYLIGHT
BEGIN:STANDARD
TZOFFSETFROM:-0400
TZOFFSETTO:-0500
TZNAME:EST
DTSTART:20251102T060000
END:STANDARD
END:VTIMEZONE
BEGIN:VEVENT
DTSTART;TZID=America/New_York:20240805T100000
DTEND;TZID=America/New_York:20240805T110000
DTSTAMP:20260419T113837
CREATED:20240801T140508Z
LAST-MODIFIED:20240801T140508Z
UID:8542-1722852000-1722855600@72chew.net
SUMMARY:10:00 NCS Needed (Temporary)
DESCRIPTION:
URL:http://72chew.net/event/1000-ncs-needed-temporary-6/
LOCATION:7.272 Mhz
CATEGORIES:NCS slots
END:VEVENT
BEGIN:VEVENT
DTSTART;TZID=America/New_York:20240805T110000
DTEND;TZID=America/New_York:20240805T120000
DTSTAMP:20260419T113837
CREATED:20240801T140508Z
LAST-MODIFIED:20240801T140508Z
UID:8543-1722855600-1722859200@72chew.net
SUMMARY:11:00 KB3LGO\, Walt
DESCRIPTION:
URL:http://72chew.net/event/1100-kb3lgo-walt-286/
LOCATION:7.272 Mhz
CATEGORIES:NCS slots
END:VEVENT
BEGIN:VEVENT
DTSTART;TZID=America/New_York:20240806T090000
DTEND;TZID=America/New_York:20240806T100000
DTSTAMP:20260419T113837
CREATED:20240801T140520Z
LAST-MODIFIED:20240801T140520Z
UID:8544-1722934800-1722938400@72chew.net
SUMMARY:9:00 VE2KEZ\, Jacques
DESCRIPTION:
URL:http://72chew.net/event/900-ve2kez-jacques/
LOCATION:7.272 Mhz
CATEGORIES:NCS slots
END:VEVENT
BEGIN:VEVENT
DTSTART;TZID=America/New_York:20240806T100000
DTEND;TZID=America/New_York:20240806T110000
DTSTAMP:20260419T113837
CREATED:20240801T140520Z
LAST-MODIFIED:20240801T140520Z
UID:8545-1722938400-1722942000@72chew.net
SUMMARY:10:00 NCS Needed (Permanent)
DESCRIPTION:
URL:http://72chew.net/event/1000-ncs-needed-permanent-6/
LOCATION:7.272 Mhz
CATEGORIES:NCS slots
END:VEVENT
BEGIN:VEVENT
DTSTART;TZID=America/New_York:20240806T110000
DTEND;TZID=America/New_York:20240806T120000
DTSTAMP:20260419T113837
CREATED:20240801T140521Z
LAST-MODIFIED:20240801T140521Z
UID:8546-1722942000-1722945600@72chew.net
SUMMARY:11:00 AB2UE\, Terry
DESCRIPTION:
URL:http://72chew.net/event/1100-ab2ue-terry-140/
LOCATION:7.272 Mhz
CATEGORIES:NCS slots
END:VEVENT
BEGIN:VEVENT
DTSTART;TZID=America/New_York:20240807T090000
DTEND;TZID=America/New_York:20240807T100000
DTSTAMP:20260419T113837
CREATED:20240801T140521Z
LAST-MODIFIED:20240801T140521Z
UID:8547-1723021200-1723024800@72chew.net
SUMMARY:9:00 KC8OEX\, Terry
DESCRIPTION:
URL:http://72chew.net/event/900-kc8oex-terry-162/
LOCATION:7.272 Mhz
CATEGORIES:NCS slots
END:VEVENT
BEGIN:VEVENT
DTSTART;TZID=America/New_York:20240807T100000
DTEND;TZID=America/New_York:20240807T110000
DTSTAMP:20260419T113837
CREATED:20240801T140522Z
LAST-MODIFIED:20240801T140522Z
UID:8548-1723024800-1723028400@72chew.net
SUMMARY:10:00 WA2ISC\, Kevin
DESCRIPTION:
URL:http://72chew.net/event/1000-wa2isc-kevin-300/
LOCATION:7.272 Mhz
CATEGORIES:NCS slots
END:VEVENT
BEGIN:VEVENT
DTSTART;TZID=America/New_York:20240807T110000
DTEND;TZID=America/New_York:20240807T120000
DTSTAMP:20260419T113837
CREATED:20240801T140535Z
LAST-MODIFIED:20240801T140535Z
UID:8549-1723028400-1723032000@72chew.net
SUMMARY:11:00 KB3LGO\, Walt
DESCRIPTION:
URL:http://72chew.net/event/1100-kb3lgo-walt-287/
LOCATION:7.272 Mhz
CATEGORIES:NCS slots
END:VEVENT
BEGIN:VEVENT
DTSTART;TZID=America/New_York:20240808T090000
DTEND;TZID=America/New_York:20240808T100000
DTSTAMP:20260419T113837
CREATED:20240801T140536Z
LAST-MODIFIED:20240801T140536Z
UID:8550-1723107600-1723111200@72chew.net
SUMMARY:9:00 KB1HPV\, Chad
DESCRIPTION:
URL:http://72chew.net/event/900-kb1hpv-chad-149/
LOCATION:7.272 Mhz
CATEGORIES:NCS slots
END:VEVENT
BEGIN:VEVENT
DTSTART;TZID=America/New_York:20240808T100000
DTEND;TZID=America/New_York:20240808T110000
DTSTAMP:20260419T113837
CREATED:20240801T140536Z
LAST-MODIFIED:20240801T140536Z
UID:8551-1723111200-1723114800@72chew.net
SUMMARY:10:00 KM4NOU\, Joel
DESCRIPTION:
URL:http://72chew.net/event/1000-km4nou-joel-279/
LOCATION:7.272 Mhz
CATEGORIES:NCS slots
END:VEVENT
BEGIN:VEVENT
DTSTART;TZID=America/New_York:20240808T110000
DTEND;TZID=America/New_York:20240808T120000
DTSTAMP:20260419T113837
CREATED:20240801T140536Z
LAST-MODIFIED:20240801T140536Z
UID:8552-1723114800-1723118400@72chew.net
SUMMARY:11:00 KB3LGO\, Walt
DESCRIPTION:
URL:http://72chew.net/event/1100-kb3lgo-walt-288/
LOCATION:7.272 Mhz
CATEGORIES:NCS slots
END:VEVENT
BEGIN:VEVENT
DTSTART;TZID=America/New_York:20240809T090000
DTEND;TZID=America/New_York:20240809T100000
DTSTAMP:20260419T113837
CREATED:20240801T140537Z
LAST-MODIFIED:20240801T140537Z
UID:8553-1723194000-1723197600@72chew.net
SUMMARY:9:00 WA2AXZ\, Loby
DESCRIPTION:
URL:http://72chew.net/event/900-wa2axz-loby-486/
LOCATION:7.272 Mhz
CATEGORIES:NCS slots
END:VEVENT
BEGIN:VEVENT
DTSTART;TZID=America/New_York:20240809T100000
DTEND;TZID=America/New_York:20240809T110000
DTSTAMP:20260419T113837
CREATED:20240801T140550Z
LAST-MODIFIED:20240801T140550Z
UID:8554-1723197600-1723201200@72chew.net
SUMMARY:10:00 W4WEL\, Scott
DESCRIPTION:
URL:http://72chew.net/event/1000-w4wel-scott-111/
LOCATION:7.272 Mhz
CATEGORIES:NCS slots
END:VEVENT
BEGIN:VEVENT
DTSTART;TZID=America/New_York:20240809T110000
DTEND;TZID=America/New_York:20240809T120000
DTSTAMP:20260419T113837
CREATED:20240801T140550Z
LAST-MODIFIED:20240801T140550Z
UID:8555-1723201200-1723204800@72chew.net
SUMMARY:11:00 WB1CEI\, Ed
DESCRIPTION:
URL:http://72chew.net/event/1100-wb1cei-ed-76/
LOCATION:7.272 Mhz
CATEGORIES:NCS slots
END:VEVENT
BEGIN:VEVENT
DTSTART;TZID=America/New_York:20240810T090000
DTEND;TZID=America/New_York:20240810T100000
DTSTAMP:20260419T113837
CREATED:20240801T140551Z
LAST-MODIFIED:20240801T140551Z
UID:8556-1723280400-1723284000@72chew.net
SUMMARY:9:00 K2YN\, John
DESCRIPTION:
URL:http://72chew.net/event/900-k2yn-john-89/
LOCATION:7.272 Mhz
CATEGORIES:NCS slots
END:VEVENT
BEGIN:VEVENT
DTSTART;TZID=America/New_York:20240810T100000
DTEND;TZID=America/New_York:20240810T110000
DTSTAMP:20260419T113837
CREATED:20240801T140551Z
LAST-MODIFIED:20240801T140551Z
UID:8557-1723284000-1723287600@72chew.net
SUMMARY:10:00 KC8OEX\, Terry
DESCRIPTION:
URL:http://72chew.net/event/1000-kc8oex-terry-7/
LOCATION:7.272 Mhz
CATEGORIES:NCS slots
END:VEVENT
BEGIN:VEVENT
DTSTART;TZID=America/New_York:20240810T110000
DTEND;TZID=America/New_York:20240810T120000
DTSTAMP:20260419T113837
CREATED:20240801T140552Z
LAST-MODIFIED:20240801T140552Z
UID:8558-1723287600-1723291200@72chew.net
SUMMARY:11:00 WA2AXZ\, Loby (temporary)
DESCRIPTION:
URL:http://72chew.net/event/1100-wa2axz-loby-temporary-87/
LOCATION:7.272 Mhz
CATEGORIES:NCS slots
END:VEVENT
BEGIN:VEVENT
DTSTART;TZID=America/New_York:20240811T090000
DTEND;TZID=America/New_York:20240811T100000
DTSTAMP:20260419T113837
CREATED:20240801T140605Z
LAST-MODIFIED:20240801T140605Z
UID:8559-1723366800-1723370400@72chew.net
SUMMARY:9:00 WV8RKL\, Randall
DESCRIPTION:
URL:http://72chew.net/event/900-wv8rkl-randall-114/
LOCATION:7.272 Mhz
CATEGORIES:NCS slots
END:VEVENT
BEGIN:VEVENT
DTSTART;TZID=America/New_York:20240811T100000
DTEND;TZID=America/New_York:20240811T110000
DTSTAMP:20260419T113837
CREATED:20240801T140606Z
LAST-MODIFIED:20240801T140606Z
UID:8560-1723370400-1723374000@72chew.net
SUMMARY:10:00 W8LWX\, John
DESCRIPTION:
URL:http://72chew.net/event/1000-w8lwx-john-306/
LOCATION:7.272 Mhz
CATEGORIES:NCS slots
END:VEVENT
BEGIN:VEVENT
DTSTART;TZID=America/New_York:20240811T110000
DTEND;TZID=America/New_York:20240811T120000
DTSTAMP:20260419T113837
CREATED:20240801T140606Z
LAST-MODIFIED:20240801T140606Z
UID:8561-1723374000-1723377600@72chew.net
SUMMARY:11:00 KJ4UYR\, Janice
DESCRIPTION:
URL:http://72chew.net/event/1100-kj4uyr-janice-159/
LOCATION:7.272 Mhz
CATEGORIES:NCS slots
END:VEVENT
BEGIN:VEVENT
DTSTART;TZID=America/New_York:20240812T090000
DTEND;TZID=America/New_York:20240812T100000
DTSTAMP:20260419T113837
CREATED:20240801T140607Z
LAST-MODIFIED:20240801T140607Z
UID:8562-1723453200-1723456800@72chew.net
SUMMARY:9:00 WA2AXZ\, Loby
DESCRIPTION:
URL:http://72chew.net/event/900-wa2axz-loby-487/
LOCATION:7.272 Mhz
CATEGORIES:NCS slots
END:VEVENT
BEGIN:VEVENT
DTSTART;TZID=America/New_York:20240812T100000
DTEND;TZID=America/New_York:20240812T110000
DTSTAMP:20260419T113837
CREATED:20240801T140607Z
LAST-MODIFIED:20240801T140607Z
UID:8563-1723456800-1723460400@72chew.net
SUMMARY:10:00 NCS Needed (Temporary)
DESCRIPTION:
URL:http://72chew.net/event/1000-ncs-needed-temporary-7/
LOCATION:7.272 Mhz
CATEGORIES:NCS slots
END:VEVENT
BEGIN:VEVENT
DTSTART;TZID=America/New_York:20240812T110000
DTEND;TZID=America/New_York:20240812T120000
DTSTAMP:20260419T113837
CREATED:20240801T140620Z
LAST-MODIFIED:20240801T140620Z
UID:8564-1723460400-1723464000@72chew.net
SUMMARY:11:00 KB3LGO\, Walt
DESCRIPTION:
URL:http://72chew.net/event/1100-kb3lgo-walt-289/
LOCATION:7.272 Mhz
CATEGORIES:NCS slots
END:VEVENT
BEGIN:VEVENT
DTSTART;TZID=America/New_York:20240813T090000
DTEND;TZID=America/New_York:20240813T100000
DTSTAMP:20260419T113837
CREATED:20240801T140622Z
LAST-MODIFIED:20240801T140622Z
UID:8565-1723539600-1723543200@72chew.net
SUMMARY:9:00 VE2KEZ\, Jacques
DESCRIPTION:
URL:http://72chew.net/event/900-ve2kez-jacques-2/
LOCATION:7.272 Mhz
CATEGORIES:NCS slots
END:VEVENT
BEGIN:VEVENT
DTSTART;TZID=America/New_York:20240813T100000
DTEND;TZID=America/New_York:20240813T110000
DTSTAMP:20260419T113837
CREATED:20240801T140622Z
LAST-MODIFIED:20240801T140622Z
UID:8566-1723543200-1723546800@72chew.net
SUMMARY:10:00 NCS Needed (Permanent)
DESCRIPTION:
URL:http://72chew.net/event/1000-ncs-needed-permanent-7/
LOCATION:7.272 Mhz
CATEGORIES:NCS slots
END:VEVENT
BEGIN:VEVENT
DTSTART;TZID=America/New_York:20240813T110000
DTEND;TZID=America/New_York:20240813T120000
DTSTAMP:20260419T113837
CREATED:20240801T140623Z
LAST-MODIFIED:20240801T140623Z
UID:8567-1723546800-1723550400@72chew.net
SUMMARY:11:00 AB2UE\, Terry
DESCRIPTION:
URL:http://72chew.net/event/1100-ab2ue-terry-141/
LOCATION:7.272 Mhz
CATEGORIES:NCS slots
END:VEVENT
BEGIN:VEVENT
DTSTART;TZID=America/New_York:20240814T090000
DTEND;TZID=America/New_York:20240814T100000
DTSTAMP:20260419T113837
CREATED:20240801T140623Z
LAST-MODIFIED:20240801T140623Z
UID:8568-1723626000-1723629600@72chew.net
SUMMARY:9:00 KC8OEX\, Terry
DESCRIPTION:
URL:http://72chew.net/event/900-kc8oex-terry-163/
LOCATION:7.272 Mhz
CATEGORIES:NCS slots
END:VEVENT
BEGIN:VEVENT
DTSTART;TZID=America/New_York:20240814T100000
DTEND;TZID=America/New_York:20240814T110000
DTSTAMP:20260419T113837
CREATED:20240801T140635Z
LAST-MODIFIED:20240801T140635Z
UID:8569-1723629600-1723633200@72chew.net
SUMMARY:10:00 WA2ISC\, Kevin
DESCRIPTION:
URL:http://72chew.net/event/1000-wa2isc-kevin-301/
LOCATION:7.272 Mhz
CATEGORIES:NCS slots
END:VEVENT
BEGIN:VEVENT
DTSTART;TZID=America/New_York:20240814T110000
DTEND;TZID=America/New_York:20240814T120000
DTSTAMP:20260419T113837
CREATED:20240801T140636Z
LAST-MODIFIED:20240801T140636Z
UID:8570-1723633200-1723636800@72chew.net
SUMMARY:11:00 KB3LGO\, Walt
DESCRIPTION:
URL:http://72chew.net/event/1100-kb3lgo-walt-290/
LOCATION:7.272 Mhz
CATEGORIES:NCS slots
END:VEVENT
BEGIN:VEVENT
DTSTART;TZID=America/New_York:20240815T090000
DTEND;TZID=America/New_York:20240815T100000
DTSTAMP:20260419T113837
CREATED:20240801T140636Z
LAST-MODIFIED:20240801T140636Z
UID:8571-1723712400-1723716000@72chew.net
SUMMARY:9:00 KB1HPV\, Chad
DESCRIPTION:
URL:http://72chew.net/event/900-kb1hpv-chad-150/
LOCATION:7.272 Mhz
CATEGORIES:NCS slots
END:VEVENT
END:VCALENDAR