BEGIN:VCALENDAR
VERSION:2.0
PRODID:-//72 Chew - ECPv6.15.18//NONSGML v1.0//EN
CALSCALE:GREGORIAN
METHOD:PUBLISH
X-ORIGINAL-URL:http://72chew.net
X-WR-CALDESC:Events for 72 Chew
REFRESH-INTERVAL;VALUE=DURATION:PT1H
X-Robots-Tag:noindex
X-PUBLISHED-TTL:PT1H
BEGIN:VTIMEZONE
TZID:America/New_York
BEGIN:DAYLIGHT
TZOFFSETFROM:-0500
TZOFFSETTO:-0400
TZNAME:EDT
DTSTART:20230312T070000
END:DAYLIGHT
BEGIN:STANDARD
TZOFFSETFROM:-0400
TZOFFSETTO:-0500
TZNAME:EST
DTSTART:20231105T060000
END:STANDARD
BEGIN:DAYLIGHT
TZOFFSETFROM:-0500
TZOFFSETTO:-0400
TZNAME:EDT
DTSTART:20240310T070000
END:DAYLIGHT
BEGIN:STANDARD
TZOFFSETFROM:-0400
TZOFFSETTO:-0500
TZNAME:EST
DTSTART:20241103T060000
END:STANDARD
BEGIN:DAYLIGHT
TZOFFSETFROM:-0500
TZOFFSETTO:-0400
TZNAME:EDT
DTSTART:20250309T070000
END:DAYLIGHT
BEGIN:STANDARD
TZOFFSETFROM:-0400
TZOFFSETTO:-0500
TZNAME:EST
DTSTART:20251102T060000
END:STANDARD
END:VTIMEZONE
BEGIN:VEVENT
DTSTART;TZID=America/New_York:20240815T100000
DTEND;TZID=America/New_York:20240815T110000
DTSTAMP:20260419T100005
CREATED:20240801T140637Z
LAST-MODIFIED:20240801T140637Z
UID:8572-1723716000-1723719600@72chew.net
SUMMARY:10:00 KM4NOU\, Joel
DESCRIPTION:
URL:http://72chew.net/event/1000-km4nou-joel-280/
LOCATION:7.272 Mhz
CATEGORIES:NCS slots
END:VEVENT
BEGIN:VEVENT
DTSTART;TZID=America/New_York:20240815T110000
DTEND;TZID=America/New_York:20240815T120000
DTSTAMP:20260419T100005
CREATED:20240801T140638Z
LAST-MODIFIED:20240801T140638Z
UID:8573-1723719600-1723723200@72chew.net
SUMMARY:11:00 KB3LGO\, Walt
DESCRIPTION:
URL:http://72chew.net/event/1100-kb3lgo-walt-291/
LOCATION:7.272 Mhz
CATEGORIES:NCS slots
END:VEVENT
BEGIN:VEVENT
DTSTART;TZID=America/New_York:20240816T090000
DTEND;TZID=America/New_York:20240816T100000
DTSTAMP:20260419T100005
CREATED:20240801T140836Z
LAST-MODIFIED:20240801T140836Z
UID:8574-1723798800-1723802400@72chew.net
SUMMARY:9:00 WA2AXZ\, Loby
DESCRIPTION:
URL:http://72chew.net/event/900-wa2axz-loby-488/
LOCATION:7.272 Mhz
CATEGORIES:NCS slots
END:VEVENT
BEGIN:VEVENT
DTSTART;TZID=America/New_York:20240816T100000
DTEND;TZID=America/New_York:20240816T110000
DTSTAMP:20260419T100005
CREATED:20240801T140837Z
LAST-MODIFIED:20240801T140837Z
UID:8575-1723802400-1723806000@72chew.net
SUMMARY:10:00 W4WEL\, Scott
DESCRIPTION:
URL:http://72chew.net/event/1000-w4wel-scott-112/
LOCATION:7.272 Mhz
CATEGORIES:NCS slots
END:VEVENT
BEGIN:VEVENT
DTSTART;TZID=America/New_York:20240816T110000
DTEND;TZID=America/New_York:20240816T120000
DTSTAMP:20260419T100005
CREATED:20240801T140838Z
LAST-MODIFIED:20240801T140838Z
UID:8576-1723806000-1723809600@72chew.net
SUMMARY:11:00 WB1CEI\, Ed
DESCRIPTION:
URL:http://72chew.net/event/1100-wb1cei-ed-77/
LOCATION:7.272 Mhz
CATEGORIES:NCS slots
END:VEVENT
BEGIN:VEVENT
DTSTART;TZID=America/New_York:20240817T090000
DTEND;TZID=America/New_York:20240817T100000
DTSTAMP:20260419T100005
CREATED:20240801T140838Z
LAST-MODIFIED:20240801T140838Z
UID:8577-1723885200-1723888800@72chew.net
SUMMARY:9:00 K2YN\, John
DESCRIPTION:
URL:http://72chew.net/event/900-k2yn-john-90/
LOCATION:7.272 Mhz
CATEGORIES:NCS slots
END:VEVENT
BEGIN:VEVENT
DTSTART;TZID=America/New_York:20240817T100000
DTEND;TZID=America/New_York:20240817T110000
DTSTAMP:20260419T100005
CREATED:20240801T140839Z
LAST-MODIFIED:20240801T140839Z
UID:8578-1723888800-1723892400@72chew.net
SUMMARY:10:00 KC8OEX\, Terry
DESCRIPTION:
URL:http://72chew.net/event/1000-kc8oex-terry-8/
LOCATION:7.272 Mhz
CATEGORIES:NCS slots
END:VEVENT
BEGIN:VEVENT
DTSTART;TZID=America/New_York:20240817T110000
DTEND;TZID=America/New_York:20240817T120000
DTSTAMP:20260419T100005
CREATED:20240801T140901Z
LAST-MODIFIED:20240801T140901Z
UID:8579-1723892400-1723896000@72chew.net
SUMMARY:11:00 WA2AXZ\, Loby (temporary)
DESCRIPTION:
URL:http://72chew.net/event/1100-wa2axz-loby-temporary-88/
LOCATION:7.272 Mhz
CATEGORIES:NCS slots
END:VEVENT
BEGIN:VEVENT
DTSTART;TZID=America/New_York:20240818T090000
DTEND;TZID=America/New_York:20240818T100000
DTSTAMP:20260419T100005
CREATED:20240801T140901Z
LAST-MODIFIED:20240801T140901Z
UID:8580-1723971600-1723975200@72chew.net
SUMMARY:9:00 WV8RKL\, Randall
DESCRIPTION:
URL:http://72chew.net/event/900-wv8rkl-randall-115/
LOCATION:7.272 Mhz
CATEGORIES:NCS slots
END:VEVENT
BEGIN:VEVENT
DTSTART;TZID=America/New_York:20240818T100000
DTEND;TZID=America/New_York:20240818T110000
DTSTAMP:20260419T100005
CREATED:20240801T140902Z
LAST-MODIFIED:20240801T140902Z
UID:8581-1723975200-1723978800@72chew.net
SUMMARY:10:00 W8LWX\, John
DESCRIPTION:
URL:http://72chew.net/event/1000-w8lwx-john-307/
LOCATION:7.272 Mhz
CATEGORIES:NCS slots
END:VEVENT
BEGIN:VEVENT
DTSTART;TZID=America/New_York:20240818T110000
DTEND;TZID=America/New_York:20240818T120000
DTSTAMP:20260419T100005
CREATED:20240801T140902Z
LAST-MODIFIED:20240822T141657Z
UID:8582-1723978800-1723982400@72chew.net
SUMMARY:11:00 NCS Needed (Permanent) (1st and 3rd Sunday)
DESCRIPTION:
URL:http://72chew.net/event/1100-wb8vcr-tom-10/
LOCATION:7.272 Mhz
CATEGORIES:NCS slots
END:VEVENT
BEGIN:VEVENT
DTSTART;TZID=America/New_York:20240819T090000
DTEND;TZID=America/New_York:20240819T100000
DTSTAMP:20260419T100005
CREATED:20240801T140903Z
LAST-MODIFIED:20240801T140903Z
UID:8583-1724058000-1724061600@72chew.net
SUMMARY:9:00 WA2AXZ\, Loby
DESCRIPTION:
URL:http://72chew.net/event/900-wa2axz-loby-489/
LOCATION:7.272 Mhz
CATEGORIES:NCS slots
END:VEVENT
BEGIN:VEVENT
DTSTART;TZID=America/New_York:20240819T100000
DTEND;TZID=America/New_York:20240819T110000
DTSTAMP:20260419T100005
CREATED:20240801T140916Z
LAST-MODIFIED:20240801T140916Z
UID:8584-1724061600-1724065200@72chew.net
SUMMARY:10:00 NCS Needed (Temporary)
DESCRIPTION:
URL:http://72chew.net/event/1000-ncs-needed-temporary-8/
LOCATION:7.272 Mhz
CATEGORIES:NCS slots
END:VEVENT
BEGIN:VEVENT
DTSTART;TZID=America/New_York:20240819T110000
DTEND;TZID=America/New_York:20240819T120000
DTSTAMP:20260419T100005
CREATED:20240801T140917Z
LAST-MODIFIED:20240801T140917Z
UID:8585-1724065200-1724068800@72chew.net
SUMMARY:11:00 KB3LGO\, Walt
DESCRIPTION:
URL:http://72chew.net/event/1100-kb3lgo-walt-292/
LOCATION:7.272 Mhz
CATEGORIES:NCS slots
END:VEVENT
BEGIN:VEVENT
DTSTART;TZID=America/New_York:20240820T090000
DTEND;TZID=America/New_York:20240820T100000
DTSTAMP:20260419T100005
CREATED:20240801T140917Z
LAST-MODIFIED:20240822T141251Z
UID:8586-1724144400-1724148000@72chew.net
SUMMARY:9:00 NCS Needed (Temporary)
DESCRIPTION:
URL:http://72chew.net/event/900-ve2kez-jacques-3/
LOCATION:7.272 Mhz
CATEGORIES:NCS slots
END:VEVENT
BEGIN:VEVENT
DTSTART;TZID=America/New_York:20240820T100000
DTEND;TZID=America/New_York:20240820T110000
DTSTAMP:20260419T100005
CREATED:20240801T140918Z
LAST-MODIFIED:20240801T140918Z
UID:8587-1724148000-1724151600@72chew.net
SUMMARY:10:00 NCS Needed (Permanent)
DESCRIPTION:
URL:http://72chew.net/event/1000-ncs-needed-permanent-8/
LOCATION:7.272 Mhz
CATEGORIES:NCS slots
END:VEVENT
BEGIN:VEVENT
DTSTART;TZID=America/New_York:20240820T110000
DTEND;TZID=America/New_York:20240820T120000
DTSTAMP:20260419T100005
CREATED:20240801T140918Z
LAST-MODIFIED:20240801T140918Z
UID:8588-1724151600-1724155200@72chew.net
SUMMARY:11:00 AB2UE\, Terry
DESCRIPTION:
URL:http://72chew.net/event/1100-ab2ue-terry-142/
LOCATION:7.272 Mhz
CATEGORIES:NCS slots
END:VEVENT
BEGIN:VEVENT
DTSTART;TZID=America/New_York:20240821T090000
DTEND;TZID=America/New_York:20240821T100000
DTSTAMP:20260419T100005
CREATED:20240801T141117Z
LAST-MODIFIED:20240801T141117Z
UID:8589-1724230800-1724234400@72chew.net
SUMMARY:9:00 KC8OEX\, Terry
DESCRIPTION:
URL:http://72chew.net/event/900-kc8oex-terry-164/
LOCATION:7.272 Mhz
CATEGORIES:NCS slots
END:VEVENT
BEGIN:VEVENT
DTSTART;TZID=America/New_York:20240821T100000
DTEND;TZID=America/New_York:20240821T110000
DTSTAMP:20260419T100005
CREATED:20240801T141118Z
LAST-MODIFIED:20240801T141118Z
UID:8590-1724234400-1724238000@72chew.net
SUMMARY:10:00 WA2ISC\, Kevin
DESCRIPTION:
URL:http://72chew.net/event/1000-wa2isc-kevin-302/
LOCATION:7.272 Mhz
CATEGORIES:NCS slots
END:VEVENT
BEGIN:VEVENT
DTSTART;TZID=America/New_York:20240821T110000
DTEND;TZID=America/New_York:20240821T120000
DTSTAMP:20260419T100005
CREATED:20240801T141119Z
LAST-MODIFIED:20240801T141119Z
UID:8591-1724238000-1724241600@72chew.net
SUMMARY:11:00 KB3LGO\, Walt
DESCRIPTION:
URL:http://72chew.net/event/1100-kb3lgo-walt-293/
LOCATION:7.272 Mhz
CATEGORIES:NCS slots
END:VEVENT
BEGIN:VEVENT
DTSTART;TZID=America/New_York:20240822T090000
DTEND;TZID=America/New_York:20240822T100000
DTSTAMP:20260419T100005
CREATED:20240801T141120Z
LAST-MODIFIED:20240801T141120Z
UID:8592-1724317200-1724320800@72chew.net
SUMMARY:9:00 KB1HPV\, Chad
DESCRIPTION:
URL:http://72chew.net/event/900-kb1hpv-chad-151/
LOCATION:7.272 Mhz
CATEGORIES:NCS slots
END:VEVENT
BEGIN:VEVENT
DTSTART;TZID=America/New_York:20240822T100000
DTEND;TZID=America/New_York:20240822T110000
DTSTAMP:20260419T100005
CREATED:20240801T141121Z
LAST-MODIFIED:20240801T141121Z
UID:8593-1724320800-1724324400@72chew.net
SUMMARY:10:00 KM4NOU\, Joel
DESCRIPTION:
URL:http://72chew.net/event/1000-km4nou-joel-281/
LOCATION:7.272 Mhz
CATEGORIES:NCS slots
END:VEVENT
BEGIN:VEVENT
DTSTART;TZID=America/New_York:20240822T110000
DTEND;TZID=America/New_York:20240822T120000
DTSTAMP:20260419T100005
CREATED:20240801T141223Z
LAST-MODIFIED:20240801T141223Z
UID:8594-1724324400-1724328000@72chew.net
SUMMARY:11:00 KB3LGO\, Walt
DESCRIPTION:
URL:http://72chew.net/event/1100-kb3lgo-walt-294/
LOCATION:7.272 Mhz
CATEGORIES:NCS slots
END:VEVENT
BEGIN:VEVENT
DTSTART;TZID=America/New_York:20240823T090000
DTEND;TZID=America/New_York:20240823T100000
DTSTAMP:20260419T100005
CREATED:20240801T141223Z
LAST-MODIFIED:20240801T141223Z
UID:8595-1724403600-1724407200@72chew.net
SUMMARY:9:00 WA2AXZ\, Loby
DESCRIPTION:
URL:http://72chew.net/event/900-wa2axz-loby-490/
LOCATION:7.272 Mhz
CATEGORIES:NCS slots
END:VEVENT
BEGIN:VEVENT
DTSTART;TZID=America/New_York:20240823T100000
DTEND;TZID=America/New_York:20240823T110000
DTSTAMP:20260419T100005
CREATED:20240801T141224Z
LAST-MODIFIED:20240801T141224Z
UID:8596-1724407200-1724410800@72chew.net
SUMMARY:10:00 W4WEL\, Scott
DESCRIPTION:
URL:http://72chew.net/event/1000-w4wel-scott-113/
LOCATION:7.272 Mhz
CATEGORIES:NCS slots
END:VEVENT
BEGIN:VEVENT
DTSTART;TZID=America/New_York:20240823T110000
DTEND;TZID=America/New_York:20240823T120000
DTSTAMP:20260419T100005
CREATED:20240801T141225Z
LAST-MODIFIED:20240801T141225Z
UID:8597-1724410800-1724414400@72chew.net
SUMMARY:11:00 WB1CEI\, Ed
DESCRIPTION:
URL:http://72chew.net/event/1100-wb1cei-ed-78/
LOCATION:7.272 Mhz
CATEGORIES:NCS slots
END:VEVENT
BEGIN:VEVENT
DTSTART;TZID=America/New_York:20240824T090000
DTEND;TZID=America/New_York:20240824T100000
DTSTAMP:20260419T100005
CREATED:20240801T141225Z
LAST-MODIFIED:20240801T141225Z
UID:8598-1724490000-1724493600@72chew.net
SUMMARY:9:00 K2YN\, John
DESCRIPTION:
URL:http://72chew.net/event/900-k2yn-john-91/
LOCATION:7.272 Mhz
CATEGORIES:NCS slots
END:VEVENT
BEGIN:VEVENT
DTSTART;TZID=America/New_York:20240824T100000
DTEND;TZID=America/New_York:20240824T110000
DTSTAMP:20260419T100005
CREATED:20240801T141341Z
LAST-MODIFIED:20240801T141341Z
UID:8599-1724493600-1724497200@72chew.net
SUMMARY:10:00 KC8OEX\, Terry
DESCRIPTION:
URL:http://72chew.net/event/1000-kc8oex-terry-9/
LOCATION:7.272 Mhz
CATEGORIES:NCS slots
END:VEVENT
BEGIN:VEVENT
DTSTART;TZID=America/New_York:20240824T110000
DTEND;TZID=America/New_York:20240824T120000
DTSTAMP:20260419T100005
CREATED:20240801T141341Z
LAST-MODIFIED:20240801T141341Z
UID:8600-1724497200-1724500800@72chew.net
SUMMARY:11:00 WA2AXZ\, Loby (temporary)
DESCRIPTION:
URL:http://72chew.net/event/1100-wa2axz-loby-temporary-89/
LOCATION:7.272 Mhz
CATEGORIES:NCS slots
END:VEVENT
BEGIN:VEVENT
DTSTART;TZID=America/New_York:20240825T090000
DTEND;TZID=America/New_York:20240825T100000
DTSTAMP:20260419T100005
CREATED:20240801T141342Z
LAST-MODIFIED:20240801T141342Z
UID:8601-1724576400-1724580000@72chew.net
SUMMARY:9:00 WV8RKL\, Randall
DESCRIPTION:
URL:http://72chew.net/event/900-wv8rkl-randall-116/
LOCATION:7.272 Mhz
CATEGORIES:NCS slots
END:VEVENT
END:VCALENDAR