BEGIN:VCALENDAR
VERSION:2.0
PRODID:-//72 Chew - ECPv6.15.18//NONSGML v1.0//EN
CALSCALE:GREGORIAN
METHOD:PUBLISH
X-WR-CALNAME:72 Chew
X-ORIGINAL-URL:http://72chew.net
X-WR-CALDESC:Events for 72 Chew
REFRESH-INTERVAL;VALUE=DURATION:PT1H
X-Robots-Tag:noindex
X-PUBLISHED-TTL:PT1H
BEGIN:VTIMEZONE
TZID:America/New_York
BEGIN:DAYLIGHT
TZOFFSETFROM:-0500
TZOFFSETTO:-0400
TZNAME:EDT
DTSTART:20240310T070000
END:DAYLIGHT
BEGIN:STANDARD
TZOFFSETFROM:-0400
TZOFFSETTO:-0500
TZNAME:EST
DTSTART:20241103T060000
END:STANDARD
BEGIN:DAYLIGHT
TZOFFSETFROM:-0500
TZOFFSETTO:-0400
TZNAME:EDT
DTSTART:20250309T070000
END:DAYLIGHT
BEGIN:STANDARD
TZOFFSETFROM:-0400
TZOFFSETTO:-0500
TZNAME:EST
DTSTART:20251102T060000
END:STANDARD
BEGIN:DAYLIGHT
TZOFFSETFROM:-0500
TZOFFSETTO:-0400
TZNAME:EDT
DTSTART:20260308T070000
END:DAYLIGHT
BEGIN:STANDARD
TZOFFSETFROM:-0400
TZOFFSETTO:-0500
TZNAME:EST
DTSTART:20261101T060000
END:STANDARD
END:VTIMEZONE
BEGIN:VEVENT
DTSTART;TZID=America/New_York:20250706T090000
DTEND;TZID=America/New_York:20250706T100000
DTSTAMP:20260420T134128
CREATED:20250627T155408Z
LAST-MODIFIED:20250627T155408Z
UID:9735-1751792400-1751796000@72chew.net
SUMMARY:9:00 WV8RKL\, Randall
DESCRIPTION:
URL:http://72chew.net/event/900-wv8rkl-randall-161/
LOCATION:7.272 Mhz
CATEGORIES:NCS slots
END:VEVENT
BEGIN:VEVENT
DTSTART;TZID=America/New_York:20250706T100000
DTEND;TZID=America/New_York:20250706T110000
DTSTAMP:20260420T134128
CREATED:20250627T155409Z
LAST-MODIFIED:20250627T155409Z
UID:9736-1751796000-1751799600@72chew.net
SUMMARY:10:00 W8LWX\, John
DESCRIPTION:
URL:http://72chew.net/event/1000-w8lwx-john-353/
LOCATION:7.272 Mhz
CATEGORIES:NCS slots
END:VEVENT
BEGIN:VEVENT
DTSTART;TZID=America/New_York:20250706T110000
DTEND;TZID=America/New_York:20250706T120000
DTSTAMP:20260420T134128
CREATED:20250627T155410Z
LAST-MODIFIED:20250627T155410Z
UID:9737-1751799600-1751803200@72chew.net
SUMMARY:11:00 KC8OEX\, Terry
DESCRIPTION:
URL:http://72chew.net/event/1100-kc8oex-terry-34/
LOCATION:7.272 Mhz
CATEGORIES:NCS slots
END:VEVENT
BEGIN:VEVENT
DTSTART;TZID=America/New_York:20250707T090000
DTEND;TZID=America/New_York:20250707T100000
DTSTAMP:20260420T134128
CREATED:20250627T155410Z
LAST-MODIFIED:20250627T155410Z
UID:9738-1751878800-1751882400@72chew.net
SUMMARY:9:00 KZ2KCK\, Rich
DESCRIPTION:
URL:http://72chew.net/event/900-kz2kck-rich-24/
LOCATION:7.272 Mhz
CATEGORIES:NCS slots
END:VEVENT
BEGIN:VEVENT
DTSTART;TZID=America/New_York:20250707T100000
DTEND;TZID=America/New_York:20250707T110000
DTSTAMP:20260420T134128
CREATED:20250627T155411Z
LAST-MODIFIED:20250627T155411Z
UID:9739-1751882400-1751886000@72chew.net
SUMMARY:10:00 KC8OEX\, Terry
DESCRIPTION:
URL:http://72chew.net/event/1000-kc8oex-terry-16/
LOCATION:7.272 Mhz
CATEGORIES:NCS slots
END:VEVENT
BEGIN:VEVENT
DTSTART;TZID=America/New_York:20250707T110000
DTEND;TZID=America/New_York:20250707T120000
DTSTAMP:20260420T134128
CREATED:20250627T155423Z
LAST-MODIFIED:20250627T155423Z
UID:9740-1751886000-1751889600@72chew.net
SUMMARY:11:00 **suspended until fall 2025
DESCRIPTION:
URL:http://72chew.net/event/1100-suspended-until-fall-2025-31/
LOCATION:7.272 Mhz
CATEGORIES:NCS slots
END:VEVENT
BEGIN:VEVENT
DTSTART;TZID=America/New_York:20250708T090000
DTEND;TZID=America/New_York:20250708T100000
DTSTAMP:20260420T134128
CREATED:20250627T155424Z
LAST-MODIFIED:20250627T155424Z
UID:9741-1751965200-1751968800@72chew.net
SUMMARY:9:00 WB1CEI\, Ed
DESCRIPTION:
URL:http://72chew.net/event/900-wb1cei-ed-6/
LOCATION:7.272 Mhz
CATEGORIES:NCS slots
END:VEVENT
BEGIN:VEVENT
DTSTART;TZID=America/New_York:20250708T100000
DTEND;TZID=America/New_York:20250708T110000
DTSTAMP:20260420T134128
CREATED:20250627T155424Z
LAST-MODIFIED:20250627T155424Z
UID:9742-1751968800-1751972400@72chew.net
SUMMARY:10:00 N9TFO\, Steve
DESCRIPTION:
URL:http://72chew.net/event/1000-n9tfo-steve-26/
LOCATION:7.272 Mhz
CATEGORIES:NCS slots
END:VEVENT
BEGIN:VEVENT
DTSTART;TZID=America/New_York:20250708T110000
DTEND;TZID=America/New_York:20250708T120000
DTSTAMP:20260420T134128
CREATED:20250627T155424Z
LAST-MODIFIED:20250627T155424Z
UID:9743-1751972400-1751976000@72chew.net
SUMMARY:11:00 **suspended until fall 2025
DESCRIPTION:
URL:http://72chew.net/event/1100-suspended-until-fall-2025-32/
LOCATION:7.272 Mhz
CATEGORIES:NCS slots
END:VEVENT
BEGIN:VEVENT
DTSTART;TZID=America/New_York:20250709T090000
DTEND;TZID=America/New_York:20250709T100000
DTSTAMP:20260420T134128
CREATED:20250627T155425Z
LAST-MODIFIED:20250627T155425Z
UID:9744-1752051600-1752055200@72chew.net
SUMMARY:9:00 KC8OEX\, Terry
DESCRIPTION:
URL:http://72chew.net/event/900-kc8oex-terry-210/
LOCATION:7.272 Mhz
CATEGORIES:NCS slots
END:VEVENT
BEGIN:VEVENT
DTSTART;TZID=America/New_York:20250709T100000
DTEND;TZID=America/New_York:20250709T110000
DTSTAMP:20260420T134128
CREATED:20250627T155438Z
LAST-MODIFIED:20250627T155438Z
UID:9745-1752055200-1752058800@72chew.net
SUMMARY:10:00 WA2ISC\, Kevin
DESCRIPTION:
URL:http://72chew.net/event/1000-wa2isc-kevin-348/
LOCATION:7.272 Mhz
CATEGORIES:NCS slots
END:VEVENT
BEGIN:VEVENT
DTSTART;TZID=America/New_York:20250709T110000
DTEND;TZID=America/New_York:20250709T120000
DTSTAMP:20260420T134128
CREATED:20250627T155439Z
LAST-MODIFIED:20250627T155439Z
UID:9746-1752058800-1752062400@72chew.net
SUMMARY:11:00 **suspended until fall 2025
DESCRIPTION:
URL:http://72chew.net/event/1100-suspended-until-fall-2025-33/
LOCATION:7.272 Mhz
CATEGORIES:NCS slots
END:VEVENT
BEGIN:VEVENT
DTSTART;TZID=America/New_York:20250710T090000
DTEND;TZID=America/New_York:20250710T100000
DTSTAMP:20260420T134128
CREATED:20250627T155439Z
LAST-MODIFIED:20250627T155439Z
UID:9747-1752138000-1752141600@72chew.net
SUMMARY:9:00 KB1HPV\, Chad
DESCRIPTION:
URL:http://72chew.net/event/900-kb1hpv-chad-197/
LOCATION:7.272 Mhz
CATEGORIES:NCS slots
END:VEVENT
BEGIN:VEVENT
DTSTART;TZID=America/New_York:20250710T100000
DTEND;TZID=America/New_York:20250710T110000
DTSTAMP:20260420T134128
CREATED:20250627T155439Z
LAST-MODIFIED:20250627T155439Z
UID:9748-1752141600-1752145200@72chew.net
SUMMARY:10:00 KM4NOU\, Joel
DESCRIPTION:
URL:http://72chew.net/event/1000-km4nou-joel-327/
LOCATION:7.272 Mhz
CATEGORIES:NCS slots
END:VEVENT
BEGIN:VEVENT
DTSTART;TZID=America/New_York:20250710T110000
DTEND;TZID=America/New_York:20250710T120000
DTSTAMP:20260420T134128
CREATED:20250627T155440Z
LAST-MODIFIED:20250627T155440Z
UID:9749-1752145200-1752148800@72chew.net
SUMMARY:11:00 **suspended until fall 2025
DESCRIPTION:
URL:http://72chew.net/event/1100-suspended-until-fall-2025-34/
LOCATION:7.272 Mhz
CATEGORIES:NCS slots
END:VEVENT
BEGIN:VEVENT
DTSTART;TZID=America/New_York:20250711T090000
DTEND;TZID=America/New_York:20250711T100000
DTSTAMP:20260420T134128
CREATED:20250627T155453Z
LAST-MODIFIED:20250627T160332Z
UID:9750-1752224400-1752228000@72chew.net
SUMMARY:9:00 WA2AXZ\, Loby
DESCRIPTION:
URL:http://72chew.net/event/900-wa2axz-loby-559/
LOCATION:7.272 Mhz
CATEGORIES:NCS slots
END:VEVENT
BEGIN:VEVENT
DTSTART;TZID=America/New_York:20250711T100000
DTEND;TZID=America/New_York:20250711T110000
DTSTAMP:20260420T134128
CREATED:20250627T155454Z
LAST-MODIFIED:20250627T160332Z
UID:9751-1752228000-1752231600@72chew.net
SUMMARY:10:00 W4WEL\, Scott
DESCRIPTION:
URL:http://72chew.net/event/1000-w4wel-scott-159/
LOCATION:7.272 Mhz
CATEGORIES:NCS slots
END:VEVENT
BEGIN:VEVENT
DTSTART;TZID=America/New_York:20250711T110000
DTEND;TZID=America/New_York:20250711T120000
DTSTAMP:20260420T134128
CREATED:20250627T155454Z
LAST-MODIFIED:20250627T160332Z
UID:9752-1752231600-1752235200@72chew.net
SUMMARY:11:00 **suspended until fall 2025
DESCRIPTION:
URL:http://72chew.net/event/1100-suspended-until-fall-2025-35/
LOCATION:7.272 Mhz
CATEGORIES:NCS slots
END:VEVENT
BEGIN:VEVENT
DTSTART;TZID=America/New_York:20250712T090000
DTEND;TZID=America/New_York:20250712T100000
DTSTAMP:20260420T134128
CREATED:20250627T155455Z
LAST-MODIFIED:20250627T160332Z
UID:9753-1752310800-1752314400@72chew.net
SUMMARY:9:00 K2YN\, John
DESCRIPTION:
URL:http://72chew.net/event/900-k2yn-john-137/
LOCATION:7.272 Mhz
CATEGORIES:NCS slots
END:VEVENT
BEGIN:VEVENT
DTSTART;TZID=America/New_York:20250712T100000
DTEND;TZID=America/New_York:20250712T110000
DTSTAMP:20260420T134128
CREATED:20250627T160332Z
LAST-MODIFIED:20250627T160332Z
UID:9818-1752314400-1752318000@72chew.net
SUMMARY:10:00 WA2AXZ\, Loby
DESCRIPTION:
URL:http://72chew.net/event/1000-wa2axz-loby-44/
LOCATION:7.272 Mhz
CATEGORIES:NCS slots
END:VEVENT
BEGIN:VEVENT
DTSTART;TZID=America/New_York:20250712T110000
DTEND;TZID=America/New_York:20250712T120000
DTSTAMP:20260420T134128
CREATED:20250627T160334Z
LAST-MODIFIED:20250627T160334Z
UID:9819-1752318000-1752321600@72chew.net
SUMMARY:11:00 **suspended until fall 2025
DESCRIPTION:
URL:http://72chew.net/event/1100-suspended-until-fall-2025-52/
LOCATION:7.272 Mhz
CATEGORIES:NCS slots
END:VEVENT
BEGIN:VEVENT
DTSTART;TZID=America/New_York:20250713T090000
DTEND;TZID=America/New_York:20250713T100000
DTSTAMP:20260420T134128
CREATED:20250627T155541Z
LAST-MODIFIED:20250627T155541Z
UID:9756-1752397200-1752400800@72chew.net
SUMMARY:9:00 WV8RKL\, Randall
DESCRIPTION:
URL:http://72chew.net/event/900-wv8rkl-randall-162/
LOCATION:7.272 Mhz
CATEGORIES:NCS slots
END:VEVENT
BEGIN:VEVENT
DTSTART;TZID=America/New_York:20250713T100000
DTEND;TZID=America/New_York:20250713T110000
DTSTAMP:20260420T134128
CREATED:20250627T155541Z
LAST-MODIFIED:20250627T155541Z
UID:9757-1752400800-1752404400@72chew.net
SUMMARY:10:00 W8LWX\, John
DESCRIPTION:
URL:http://72chew.net/event/1000-w8lwx-john-354/
LOCATION:7.272 Mhz
CATEGORIES:NCS slots
END:VEVENT
BEGIN:VEVENT
DTSTART;TZID=America/New_York:20250713T110000
DTEND;TZID=America/New_York:20250713T120000
DTSTAMP:20260420T134128
CREATED:20250627T155541Z
LAST-MODIFIED:20250627T155541Z
UID:9758-1752404400-1752408000@72chew.net
SUMMARY:11:00 KJ4UYR\, Janice
DESCRIPTION:
URL:http://72chew.net/event/1100-kj4uyr-janice-185/
LOCATION:7.272 Mhz
CATEGORIES:NCS slots
END:VEVENT
BEGIN:VEVENT
DTSTART;TZID=America/New_York:20250714T090000
DTEND;TZID=America/New_York:20250714T100000
DTSTAMP:20260420T134128
CREATED:20250627T155542Z
LAST-MODIFIED:20250627T155542Z
UID:9759-1752483600-1752487200@72chew.net
SUMMARY:9:00 KZ2KCK\, Rich
DESCRIPTION:
URL:http://72chew.net/event/900-kz2kck-rich-25/
LOCATION:7.272 Mhz
CATEGORIES:NCS slots
END:VEVENT
BEGIN:VEVENT
DTSTART;TZID=America/New_York:20250714T100000
DTEND;TZID=America/New_York:20250714T110000
DTSTAMP:20260420T134128
CREATED:20250627T155556Z
LAST-MODIFIED:20250627T155556Z
UID:9760-1752487200-1752490800@72chew.net
SUMMARY:10:00 KC8OEX\, Terry
DESCRIPTION:
URL:http://72chew.net/event/1000-kc8oex-terry-17/
LOCATION:7.272 Mhz
CATEGORIES:NCS slots
END:VEVENT
BEGIN:VEVENT
DTSTART;TZID=America/New_York:20250714T110000
DTEND;TZID=America/New_York:20250714T120000
DTSTAMP:20260420T134128
CREATED:20250627T155556Z
LAST-MODIFIED:20250627T155556Z
UID:9761-1752490800-1752494400@72chew.net
SUMMARY:11:00 **suspended until fall 2025
DESCRIPTION:
URL:http://72chew.net/event/1100-suspended-until-fall-2025-36/
LOCATION:7.272 Mhz
CATEGORIES:NCS slots
END:VEVENT
BEGIN:VEVENT
DTSTART;TZID=America/New_York:20250715T090000
DTEND;TZID=America/New_York:20250715T100000
DTSTAMP:20260420T134128
CREATED:20250627T155556Z
LAST-MODIFIED:20250627T155556Z
UID:9762-1752570000-1752573600@72chew.net
SUMMARY:9:00 WB1CEI\, Ed
DESCRIPTION:
URL:http://72chew.net/event/900-wb1cei-ed-7/
LOCATION:7.272 Mhz
CATEGORIES:NCS slots
END:VEVENT
BEGIN:VEVENT
DTSTART;TZID=America/New_York:20250715T100000
DTEND;TZID=America/New_York:20250715T110000
DTSTAMP:20260420T134128
CREATED:20250627T155557Z
LAST-MODIFIED:20250627T155557Z
UID:9763-1752573600-1752577200@72chew.net
SUMMARY:10:00 N9TFO\, Steve
DESCRIPTION:
URL:http://72chew.net/event/1000-n9tfo-steve-27/
LOCATION:7.272 Mhz
CATEGORIES:NCS slots
END:VEVENT
BEGIN:VEVENT
DTSTART;TZID=America/New_York:20250715T110000
DTEND;TZID=America/New_York:20250715T120000
DTSTAMP:20260420T134128
CREATED:20250627T155557Z
LAST-MODIFIED:20250627T155557Z
UID:9764-1752577200-1752580800@72chew.net
SUMMARY:11:00 **suspended until fall 2025
DESCRIPTION:
URL:http://72chew.net/event/1100-suspended-until-fall-2025-37/
LOCATION:7.272 Mhz
CATEGORIES:NCS slots
END:VEVENT
END:VCALENDAR