BEGIN:VCALENDAR
VERSION:2.0
PRODID:-//72 Chew - ECPv6.15.18//NONSGML v1.0//EN
CALSCALE:GREGORIAN
METHOD:PUBLISH
X-WR-CALNAME:72 Chew
X-ORIGINAL-URL:http://72chew.net
X-WR-CALDESC:Events for 72 Chew
REFRESH-INTERVAL;VALUE=DURATION:PT1H
X-Robots-Tag:noindex
X-PUBLISHED-TTL:PT1H
BEGIN:VTIMEZONE
TZID:America/New_York
BEGIN:DAYLIGHT
TZOFFSETFROM:-0500
TZOFFSETTO:-0400
TZNAME:EDT
DTSTART:20230312T070000
END:DAYLIGHT
BEGIN:STANDARD
TZOFFSETFROM:-0400
TZOFFSETTO:-0500
TZNAME:EST
DTSTART:20231105T060000
END:STANDARD
BEGIN:DAYLIGHT
TZOFFSETFROM:-0500
TZOFFSETTO:-0400
TZNAME:EDT
DTSTART:20240310T070000
END:DAYLIGHT
BEGIN:STANDARD
TZOFFSETFROM:-0400
TZOFFSETTO:-0500
TZNAME:EST
DTSTART:20241103T060000
END:STANDARD
BEGIN:DAYLIGHT
TZOFFSETFROM:-0500
TZOFFSETTO:-0400
TZNAME:EDT
DTSTART:20250309T070000
END:DAYLIGHT
BEGIN:STANDARD
TZOFFSETFROM:-0400
TZOFFSETTO:-0500
TZNAME:EST
DTSTART:20251102T060000
END:STANDARD
END:VTIMEZONE
BEGIN:VEVENT
DTSTART;TZID=America/New_York:20241224T100000
DTEND;TZID=America/New_York:20241224T110000
DTSTAMP:20260419T115247
CREATED:20241121T160240Z
LAST-MODIFIED:20241211T000838Z
UID:9010-1735034400-1735038000@72chew.net
SUMMARY:10:00 N9TFO\, Steve
DESCRIPTION:
URL:http://72chew.net/event/1000-ncs-needed-44/
LOCATION:7.272 Mhz
CATEGORIES:NCS slots
END:VEVENT
BEGIN:VEVENT
DTSTART;TZID=America/New_York:20241224T090000
DTEND;TZID=America/New_York:20241224T100000
DTSTAMP:20260419T115247
CREATED:20241121T160041Z
LAST-MODIFIED:20241211T001356Z
UID:9009-1735030800-1735034400@72chew.net
SUMMARY:9:00 KB8MQR\, Brent
DESCRIPTION:
URL:http://72chew.net/event/900-ncs-needed-temporary-27/
LOCATION:7.272 Mhz
CATEGORIES:NCS slots
END:VEVENT
BEGIN:VEVENT
DTSTART;TZID=America/New_York:20241223T110000
DTEND;TZID=America/New_York:20241223T120000
DTSTAMP:20260419T115247
CREATED:20241121T160040Z
LAST-MODIFIED:20241121T160040Z
UID:9008-1734951600-1734955200@72chew.net
SUMMARY:11:00 KB3LGO\, Walt
DESCRIPTION:
URL:http://72chew.net/event/1100-kb3lgo-walt-346/
LOCATION:7.272 Mhz
CATEGORIES:NCS slots
END:VEVENT
BEGIN:VEVENT
DTSTART;TZID=America/New_York:20241223T100000
DTEND;TZID=America/New_York:20241223T110000
DTSTAMP:20260419T115247
CREATED:20241121T160039Z
LAST-MODIFIED:20241211T001335Z
UID:9007-1734948000-1734951600@72chew.net
SUMMARY:10:00 KB8MQR\, Brent
DESCRIPTION:
URL:http://72chew.net/event/1000-ncs-needed-temporary-25/
LOCATION:7.272 Mhz
CATEGORIES:NCS slots
END:VEVENT
BEGIN:VEVENT
DTSTART;TZID=America/New_York:20241223T090000
DTEND;TZID=America/New_York:20241223T100000
DTSTAMP:20260419T115247
CREATED:20241121T160039Z
LAST-MODIFIED:20241121T160039Z
UID:9006-1734944400-1734948000@72chew.net
SUMMARY:9:00 WA2AXZ\, Loby
DESCRIPTION:
URL:http://72chew.net/event/900-wa2axz-loby-525/
LOCATION:7.272 Mhz
CATEGORIES:NCS slots
END:VEVENT
BEGIN:VEVENT
DTSTART;TZID=America/New_York:20241222T110000
DTEND;TZID=America/New_York:20241222T120000
DTSTAMP:20260419T115247
CREATED:20241121T160039Z
LAST-MODIFIED:20241121T160039Z
UID:9005-1734865200-1734868800@72chew.net
SUMMARY:11:00 KJ4UYR\, Janice
DESCRIPTION:
URL:http://72chew.net/event/1100-kj4uyr-janice-169/
LOCATION:7.272 Mhz
CATEGORIES:NCS slots
END:VEVENT
BEGIN:VEVENT
DTSTART;TZID=America/New_York:20241222T100000
DTEND;TZID=America/New_York:20241222T110000
DTSTAMP:20260419T115247
CREATED:20241121T155839Z
LAST-MODIFIED:20241121T155839Z
UID:9004-1734861600-1734865200@72chew.net
SUMMARY:10:00 W8LWX\, John
DESCRIPTION:
URL:http://72chew.net/event/1000-w8lwx-john-325/
LOCATION:7.272 Mhz
CATEGORIES:NCS slots
END:VEVENT
BEGIN:VEVENT
DTSTART;TZID=America/New_York:20241222T090000
DTEND;TZID=America/New_York:20241222T100000
DTSTAMP:20260419T115247
CREATED:20241121T155839Z
LAST-MODIFIED:20241121T155839Z
UID:9003-1734858000-1734861600@72chew.net
SUMMARY:9:00 WV8RKL\, Randall
DESCRIPTION:
URL:http://72chew.net/event/900-wv8rkl-randall-133/
LOCATION:7.272 Mhz
CATEGORIES:NCS slots
END:VEVENT
BEGIN:VEVENT
DTSTART;TZID=America/New_York:20241221T110000
DTEND;TZID=America/New_York:20241221T120000
DTSTAMP:20260419T115247
CREATED:20241121T155838Z
LAST-MODIFIED:20241121T155838Z
UID:9002-1734778800-1734782400@72chew.net
SUMMARY:11:00 NCS Needed
DESCRIPTION:
URL:http://72chew.net/event/1100-ncs-needed-64/
LOCATION:7.272 Mhz
CATEGORIES:NCS slots
END:VEVENT
BEGIN:VEVENT
DTSTART;TZID=America/New_York:20241221T100000
DTEND;TZID=America/New_York:20241221T110000
DTSTAMP:20260419T115247
CREATED:20241121T155838Z
LAST-MODIFIED:20241121T155838Z
UID:9001-1734775200-1734778800@72chew.net
SUMMARY:10:00 WA2AXZ\, Loby
DESCRIPTION:
URL:http://72chew.net/event/1000-wa2axz-loby-12/
LOCATION:7.272 Mhz
CATEGORIES:NCS slots
END:VEVENT
BEGIN:VEVENT
DTSTART;TZID=America/New_York:20241221T090000
DTEND;TZID=America/New_York:20241221T100000
DTSTAMP:20260419T115247
CREATED:20241121T155838Z
LAST-MODIFIED:20241121T155838Z
UID:9000-1734771600-1734775200@72chew.net
SUMMARY:9:00 K2YN\, John
DESCRIPTION:
URL:http://72chew.net/event/900-k2yn-john-108/
LOCATION:7.272 Mhz
CATEGORIES:NCS slots
END:VEVENT
BEGIN:VEVENT
DTSTART;TZID=America/New_York:20241220T110000
DTEND;TZID=America/New_York:20241220T120000
DTSTAMP:20260419T115247
CREATED:20241121T155639Z
LAST-MODIFIED:20241121T155639Z
UID:8999-1734692400-1734696000@72chew.net
SUMMARY:11:00 WB1CEI\, Ed
DESCRIPTION:
URL:http://72chew.net/event/1100-wb1cei-ed-95/
LOCATION:7.272 Mhz
CATEGORIES:NCS slots
END:VEVENT
BEGIN:VEVENT
DTSTART;TZID=America/New_York:20241220T100000
DTEND;TZID=America/New_York:20241220T110000
DTSTAMP:20260419T115247
CREATED:20241121T155639Z
LAST-MODIFIED:20241121T155639Z
UID:8998-1734688800-1734692400@72chew.net
SUMMARY:10:00 W4WEL\, Scott
DESCRIPTION:
URL:http://72chew.net/event/1000-w4wel-scott-130/
LOCATION:7.272 Mhz
CATEGORIES:NCS slots
END:VEVENT
BEGIN:VEVENT
DTSTART;TZID=America/New_York:20241220T090000
DTEND;TZID=America/New_York:20241220T100000
DTSTAMP:20260419T115247
CREATED:20241121T155638Z
LAST-MODIFIED:20241121T155638Z
UID:8997-1734685200-1734688800@72chew.net
SUMMARY:9:00 WA2AXZ\, Loby
DESCRIPTION:
URL:http://72chew.net/event/900-wa2axz-loby-524/
LOCATION:7.272 Mhz
CATEGORIES:NCS slots
END:VEVENT
BEGIN:VEVENT
DTSTART;TZID=America/New_York:20241219T110000
DTEND;TZID=America/New_York:20241219T120000
DTSTAMP:20260419T115247
CREATED:20241121T155638Z
LAST-MODIFIED:20241121T155638Z
UID:8996-1734606000-1734609600@72chew.net
SUMMARY:11:00 KB3LGO\, Walt
DESCRIPTION:
URL:http://72chew.net/event/1100-kb3lgo-walt-345/
LOCATION:7.272 Mhz
CATEGORIES:NCS slots
END:VEVENT
BEGIN:VEVENT
DTSTART;TZID=America/New_York:20241219T100000
DTEND;TZID=America/New_York:20241219T110000
DTSTAMP:20260419T115247
CREATED:20241121T155637Z
LAST-MODIFIED:20241121T155637Z
UID:8995-1734602400-1734606000@72chew.net
SUMMARY:10:00 KM4NOU\, Joel
DESCRIPTION:
URL:http://72chew.net/event/1000-km4nou-joel-298/
LOCATION:7.272 Mhz
CATEGORIES:NCS slots
END:VEVENT
BEGIN:VEVENT
DTSTART;TZID=America/New_York:20241219T090000
DTEND;TZID=America/New_York:20241219T100000
DTSTAMP:20260419T115247
CREATED:20241121T155437Z
LAST-MODIFIED:20241121T155437Z
UID:8994-1734598800-1734602400@72chew.net
SUMMARY:9:00 KB1HPV\, Chad
DESCRIPTION:
URL:http://72chew.net/event/900-kb1hpv-chad-168/
LOCATION:7.272 Mhz
CATEGORIES:NCS slots
END:VEVENT
BEGIN:VEVENT
DTSTART;TZID=America/New_York:20241218T110000
DTEND;TZID=America/New_York:20241218T120000
DTSTAMP:20260419T115247
CREATED:20241121T155437Z
LAST-MODIFIED:20241121T155437Z
UID:8993-1734519600-1734523200@72chew.net
SUMMARY:11:00 KB3LGO\, Walt
DESCRIPTION:
URL:http://72chew.net/event/1100-kb3lgo-walt-344/
LOCATION:7.272 Mhz
CATEGORIES:NCS slots
END:VEVENT
BEGIN:VEVENT
DTSTART;TZID=America/New_York:20241218T100000
DTEND;TZID=America/New_York:20241218T110000
DTSTAMP:20260419T115247
CREATED:20241121T155436Z
LAST-MODIFIED:20241121T155436Z
UID:8992-1734516000-1734519600@72chew.net
SUMMARY:10:00 WA2ISC\, Kevin
DESCRIPTION:
URL:http://72chew.net/event/1000-wa2isc-kevin-319/
LOCATION:7.272 Mhz
CATEGORIES:NCS slots
END:VEVENT
BEGIN:VEVENT
DTSTART;TZID=America/New_York:20241218T090000
DTEND;TZID=America/New_York:20241218T100000
DTSTAMP:20260419T115247
CREATED:20241121T155436Z
LAST-MODIFIED:20241121T155436Z
UID:8991-1734512400-1734516000@72chew.net
SUMMARY:9:00 KC8OEX\, Terry
DESCRIPTION:
URL:http://72chew.net/event/900-kc8oex-terry-181/
LOCATION:7.272 Mhz
CATEGORIES:NCS slots
END:VEVENT
BEGIN:VEVENT
DTSTART;TZID=America/New_York:20241217T110000
DTEND;TZID=America/New_York:20241217T120000
DTSTAMP:20260419T115247
CREATED:20241121T155435Z
LAST-MODIFIED:20241121T155435Z
UID:8990-1734433200-1734436800@72chew.net
SUMMARY:11:00 AB2UE\, Terry
DESCRIPTION:
URL:http://72chew.net/event/1100-ab2ue-terry-159/
LOCATION:7.272 Mhz
CATEGORIES:NCS slots
END:VEVENT
BEGIN:VEVENT
DTSTART;TZID=America/New_York:20241217T100000
DTEND;TZID=America/New_York:20241217T110000
DTSTAMP:20260419T115247
CREATED:20241121T155422Z
LAST-MODIFIED:20241211T000814Z
UID:8989-1734429600-1734433200@72chew.net
SUMMARY:10:00 N9TFO\, Steve
DESCRIPTION:
URL:http://72chew.net/event/1000-ncs-needed-43/
LOCATION:7.272 Mhz
CATEGORIES:NCS slots
END:VEVENT
BEGIN:VEVENT
DTSTART;TZID=America/New_York:20241217T090000
DTEND;TZID=America/New_York:20241217T100000
DTSTAMP:20260419T115247
CREATED:20241121T155422Z
LAST-MODIFIED:20241211T001309Z
UID:8988-1734426000-1734429600@72chew.net
SUMMARY:9:00 KB8MQR\, Brent
DESCRIPTION:
URL:http://72chew.net/event/900-ncs-needed-temporary-26/
LOCATION:7.272 Mhz
CATEGORIES:NCS slots
END:VEVENT
BEGIN:VEVENT
DTSTART;TZID=America/New_York:20241216T110000
DTEND;TZID=America/New_York:20241216T120000
DTSTAMP:20260419T115247
CREATED:20241121T155421Z
LAST-MODIFIED:20241121T155421Z
UID:8987-1734346800-1734350400@72chew.net
SUMMARY:11:00 KB3LGO\, Walt
DESCRIPTION:
URL:http://72chew.net/event/1100-kb3lgo-walt-343/
LOCATION:7.272 Mhz
CATEGORIES:NCS slots
END:VEVENT
BEGIN:VEVENT
DTSTART;TZID=America/New_York:20241216T100000
DTEND;TZID=America/New_York:20241216T110000
DTSTAMP:20260419T115247
CREATED:20241121T155421Z
LAST-MODIFIED:20241211T001246Z
UID:8986-1734343200-1734346800@72chew.net
SUMMARY:10:00 KB8MQR\, Brent
DESCRIPTION:
URL:http://72chew.net/event/1000-ncs-needed-temporary-24/
LOCATION:7.272 Mhz
CATEGORIES:NCS slots
END:VEVENT
BEGIN:VEVENT
DTSTART;TZID=America/New_York:20241216T090000
DTEND;TZID=America/New_York:20241216T100000
DTSTAMP:20260419T115247
CREATED:20241121T155420Z
LAST-MODIFIED:20241121T155420Z
UID:8985-1734339600-1734343200@72chew.net
SUMMARY:9:00 WA2AXZ\, Loby
DESCRIPTION:
URL:http://72chew.net/event/900-wa2axz-loby-523/
LOCATION:7.272 Mhz
CATEGORIES:NCS slots
END:VEVENT
BEGIN:VEVENT
DTSTART;TZID=America/New_York:20241215T110000
DTEND;TZID=America/New_York:20241215T120000
DTSTAMP:20260419T115247
CREATED:20241121T155407Z
LAST-MODIFIED:20241121T155407Z
UID:8984-1734260400-1734264000@72chew.net
SUMMARY:11:00 KC8OEX\, Terry
DESCRIPTION:
URL:http://72chew.net/event/1100-kc8oex-terry-21/
LOCATION:7.272 Mhz
CATEGORIES:NCS slots
END:VEVENT
BEGIN:VEVENT
DTSTART;TZID=America/New_York:20241215T100000
DTEND;TZID=America/New_York:20241215T110000
DTSTAMP:20260419T115247
CREATED:20241121T155406Z
LAST-MODIFIED:20241121T155406Z
UID:8983-1734256800-1734260400@72chew.net
SUMMARY:10:00 W8LWX\, John
DESCRIPTION:
URL:http://72chew.net/event/1000-w8lwx-john-324/
LOCATION:7.272 Mhz
CATEGORIES:NCS slots
END:VEVENT
BEGIN:VEVENT
DTSTART;TZID=America/New_York:20241215T090000
DTEND;TZID=America/New_York:20241215T100000
DTSTAMP:20260419T115247
CREATED:20241121T155406Z
LAST-MODIFIED:20241121T155406Z
UID:8982-1734253200-1734256800@72chew.net
SUMMARY:9:00 WV8RKL\, Randall
DESCRIPTION:
URL:http://72chew.net/event/900-wv8rkl-randall-132/
LOCATION:7.272 Mhz
CATEGORIES:NCS slots
END:VEVENT
BEGIN:VEVENT
DTSTART;TZID=America/New_York:20241214T110000
DTEND;TZID=America/New_York:20241214T120000
DTSTAMP:20260419T115247
CREATED:20241121T155406Z
LAST-MODIFIED:20241121T155406Z
UID:8981-1734174000-1734177600@72chew.net
SUMMARY:11:00 NCS Needed
DESCRIPTION:
URL:http://72chew.net/event/1100-ncs-needed-63/
LOCATION:7.272 Mhz
CATEGORIES:NCS slots
END:VEVENT
END:VCALENDAR